BEGIN:VCALENDAR
VERSION:2.0
PRODID:-//AusschreibungsRadar//Timeline//DE
CALSCALE:GREGORIAN
METHOD:PUBLISH
X-WR-CALNAME:Projekt Freianlagen - TB Entsorgungshof, InterimHaupteingangscontain
X-WR-TIMEZONE:Europe/Berlin
BEGIN:VEVENT
UID:809de46d5eddf405@ausschreibungsradar.com
DTSTAMP:20260424T105437Z
DTSTART;VALUE=DATE:20250414
DTEND;VALUE=DATE:20250414
SUMMARY:Angebotsfrist — Freianlagen - TB Entsorgungshof\, InterimHaupteingangscontain
DESCRIPTION:Phase: Ausschreibung | Beschreibung: Angebote werden eingeholt | Link: https://ausschreibungsradar.com/ausschreibung/08fa7fce-3983-4540-a66d-a6d6fde0a048/
URL:https://ausschreibungsradar.com/ausschreibung/08fa7fce-3983-4540-a66d-a6d6fde0a048/
END:VEVENT
END:VCALENDAR
