BEGIN:VCALENDAR
VERSION:2.0
PRODID:-//AusschreibungsRadar//Timeline//DE
CALSCALE:GREGORIAN
METHOD:PUBLISH
X-WR-CALNAME:Projekt Beschaffung eines Gerätewagen Logistik mit Ausrüstungsmodul 
X-WR-TIMEZONE:Europe/Berlin
BEGIN:VEVENT
UID:d45b077149d70997@ausschreibungsradar.com
DTSTAMP:20260424T165948Z
DTSTART;VALUE=DATE:20260205
DTEND;VALUE=DATE:20260205
SUMMARY:Angebotsfrist — Beschaffung eines Gerätewagen Logistik mit Ausrüstungsmodul 
DESCRIPTION:Phase: Ausschreibung | Beschreibung: Angebote werden eingeholt | Link: https://ausschreibungsradar.com/ausschreibung/0902160f-a979-464e-acf5-b411c4a09f33/
URL:https://ausschreibungsradar.com/ausschreibung/0902160f-a979-464e-acf5-b411c4a09f33/
END:VEVENT
END:VCALENDAR
