BEGIN:VCALENDAR
VERSION:2.0
PRODID:-//AusschreibungsRadar//Timeline//DE
CALSCALE:GREGORIAN
METHOD:PUBLISH
X-WR-CALNAME:Projekt Lüftungstechnik
X-WR-TIMEZONE:Europe/Berlin
BEGIN:VEVENT
UID:2570b5a92e8c7c9c@ausschreibungsradar.com
DTSTAMP:20260425T190247Z
DTSTART;VALUE=DATE:20250310
DTEND;VALUE=DATE:20250310
SUMMARY:Angebotsfrist — Lüftungstechnik
DESCRIPTION:Phase: Ausschreibung | Beschreibung: Angebote werden eingeholt | Link: https://ausschreibungsradar.com/ausschreibung/093abc75-be9b-4189-a8cf-91f4ca3368de/ | Geschätzter Wert: 392843 €
URL:https://ausschreibungsradar.com/ausschreibung/093abc75-be9b-4189-a8cf-91f4ca3368de/
END:VEVENT
END:VCALENDAR
