BEGIN:VCALENDAR
VERSION:2.0
PRODID:-//AusschreibungsRadar//Timeline//DE
CALSCALE:GREGORIAN
METHOD:PUBLISH
X-WR-CALNAME:Projekt Planungsleistungen für den Ersatzneubau städtischer Bauhof K
X-WR-TIMEZONE:Europe/Berlin
BEGIN:VEVENT
UID:79207eca3f6beec2@ausschreibungsradar.com
DTSTAMP:20260425T211848Z
DTSTART;VALUE=DATE:20241002
DTEND;VALUE=DATE:20241002
SUMMARY:Ausschreibung — Planungsleistungen für den Ersatzneubau städtischer Bauhof K
DESCRIPTION:Phase: Ausschreibung | Beschreibung: Angebote werden eingeholt | Link: https://ausschreibungsradar.com/ausschreibung/0a2ce37e-7361-43eb-8118-6efd83e3d898/
URL:https://ausschreibungsradar.com/ausschreibung/0a2ce37e-7361-43eb-8118-6efd83e3d898/
END:VEVENT
BEGIN:VEVENT
UID:e9f5166c26144a90@ausschreibungsradar.com
DTSTAMP:20260425T211848Z
DTSTART;VALUE=DATE:20241002
DTEND;VALUE=DATE:20241002
SUMMARY:Ausschreibung — Planungsleistungen für den Ersatzneubau städtischer Bauhof K
DESCRIPTION:Phase: Ausschreibung | Beschreibung: Offizielle Ausschreibung mit Bieterfrist. | Link: https://ausschreibungsradar.com/ausschreibung/19e055eb-b7da-4349-aa9e-a328f3b5e74b/
URL:https://ausschreibungsradar.com/ausschreibung/19e055eb-b7da-4349-aa9e-a328f3b5e74b/
END:VEVENT
BEGIN:VEVENT
UID:11bd30e3b942d080@ausschreibungsradar.com
DTSTAMP:20260425T211848Z
DTSTART;VALUE=DATE:20241203
DTEND;VALUE=DATE:20241203
SUMMARY:Vergabeergebnis — Planungsleistungen für den Ersatzneubau städtischer Bauhof K
DESCRIPTION:Phase: Vergabeergebnis | Beschreibung: Alle Angebote ausgeschlossen | Link: https://ausschreibungsradar.com/ausschreibung/d9ac0d10-c48c-42a8-b381-057612750baa/
URL:https://ausschreibungsradar.com/ausschreibung/d9ac0d10-c48c-42a8-b381-057612750baa/
END:VEVENT
END:VCALENDAR
