BEGIN:VCALENDAR
VERSION:2.0
PRODID:-//AusschreibungsRadar//Timeline//DE
CALSCALE:GREGORIAN
METHOD:PUBLISH
X-WR-CALNAME:Projekt Offenes Verfahren zur Vergabe der Dienstleistung Containerge
X-WR-TIMEZONE:Europe/Berlin
BEGIN:VEVENT
UID:09bb18f41a8d92f8@ausschreibungsradar.com
DTSTAMP:20260425T180803Z
DTSTART;VALUE=DATE:20251120
DTEND;VALUE=DATE:20251120
SUMMARY:Angebotsfrist — Offenes Verfahren zur Vergabe der Dienstleistung Containerge
DESCRIPTION:Phase: Ausschreibung | Beschreibung: Angebote werden eingeholt | Link: https://ausschreibungsradar.com/ausschreibung/a7eb1a82-804e-46c4-8a1f-719c4c2f44a9/
URL:https://ausschreibungsradar.com/ausschreibung/a7eb1a82-804e-46c4-8a1f-719c4c2f44a9/
END:VEVENT
BEGIN:VEVENT
UID:db4ec0a2c0a5f340@ausschreibungsradar.com
DTSTAMP:20260425T180803Z
DTSTART;VALUE=DATE:20251020
DTEND;VALUE=DATE:20251020
SUMMARY:Ausschreibung — Offenes Verfahren zur Vergabe der Dienstleistung Containerge
DESCRIPTION:Phase: Ausschreibung | Beschreibung: Offizielle Ausschreibung mit Bieterfrist. | Link: https://ausschreibungsradar.com/ausschreibung/d8164fbd-2bca-4249-b035-681f324cda4f/
URL:https://ausschreibungsradar.com/ausschreibung/d8164fbd-2bca-4249-b035-681f324cda4f/
END:VEVENT
BEGIN:VEVENT
UID:07b4ee813d6a4837@ausschreibungsradar.com
DTSTAMP:20260425T180803Z
DTSTART;VALUE=DATE:20251121
DTEND;VALUE=DATE:20251121
SUMMARY:Zuschlag — Offenes Verfahren zur Vergabe der Dienstleistung Containerge
DESCRIPTION:Phase: Zuschlag | Beschreibung: Vergabeergebnis — Auftrag wurde erteilt oder Verfahren beendet. | Link: https://ausschreibungsradar.com/ausschreibung/35677d91-4df4-4fb5-a4f2-f3524e376c5d/
URL:https://ausschreibungsradar.com/ausschreibung/35677d91-4df4-4fb5-a4f2-f3524e376c5d/
END:VEVENT
BEGIN:VEVENT
UID:131b2b56158f0201@ausschreibungsradar.com
DTSTAMP:20260425T180803Z
DTSTART;VALUE=DATE:20251205
DTEND;VALUE=DATE:20251205
SUMMARY:Ausschreibung — Offenes Verfahren zur Vergabe der Dienstleistung Containerge
DESCRIPTION:Phase: Ausschreibung | Beschreibung: Offizielle Ausschreibung mit Bieterfrist. | Link: https://ausschreibungsradar.com/ausschreibung/ffe827f8-d60d-4096-b065-7ae5ca159979/
URL:https://ausschreibungsradar.com/ausschreibung/ffe827f8-d60d-4096-b065-7ae5ca159979/
END:VEVENT
BEGIN:VEVENT
UID:52706e2d919ad6c1@ausschreibungsradar.com
DTSTAMP:20260425T180803Z
DTSTART;VALUE=DATE:20251215
DTEND;VALUE=DATE:20251215
SUMMARY:Vergabeergebnis — Offenes Verfahren zur Vergabe der Dienstleistung Containerge
DESCRIPTION:Phase: Vergabeergebnis | Beschreibung: Auftrag wurde zugeschlagen | Link: https://ausschreibungsradar.com/ausschreibung/0a8e2bd3-da8e-4b66-b3d8-f61f3a6d60e7/ | Auftragnehmer: Veolia Umweltservice Süd 
URL:https://ausschreibungsradar.com/ausschreibung/0a8e2bd3-da8e-4b66-b3d8-f61f3a6d60e7/
END:VEVENT
END:VCALENDAR
