BEGIN:VCALENDAR
VERSION:2.0
PRODID:-//AusschreibungsRadar//Timeline//DE
CALSCALE:GREGORIAN
METHOD:PUBLISH
X-WR-CALNAME:Projekt VE 04.02.101.0221 Gäubahn Süd Erkundungsarbeiten Baugrund
X-WR-TIMEZONE:Europe/Berlin
BEGIN:VEVENT
UID:37a4d4edfce32105@ausschreibungsradar.com
DTSTAMP:20260424T120509Z
DTSTART;VALUE=DATE:20260121
DTEND;VALUE=DATE:20260121
SUMMARY:Ausschreibung — VE 04.02.101.0221 Gäubahn Süd Erkundungsarbeiten Baugrund
DESCRIPTION:Phase: Ausschreibung | Beschreibung: Angebote werden eingeholt | Link: https://ausschreibungsradar.com/ausschreibung/0b77c16e-bfa7-4ad0-b39e-55f8c2177ea0/
URL:https://ausschreibungsradar.com/ausschreibung/0b77c16e-bfa7-4ad0-b39e-55f8c2177ea0/
END:VEVENT
BEGIN:VEVENT
UID:1a61f5857208f1c9@ausschreibungsradar.com
DTSTAMP:20260424T120509Z
DTSTART;VALUE=DATE:20260416
DTEND;VALUE=DATE:20260416
SUMMARY:Vergabeergebnis — VE 04.02.101.0221 Gäubahn Süd Erkundungsarbeiten Baugrund
DESCRIPTION:Phase: Vergabeergebnis | Beschreibung: Auftrag wurde zugeschlagen | Link: https://ausschreibungsradar.com/ausschreibung/01c3962c-4633-45cf-ad99-87ff662fe34a/
URL:https://ausschreibungsradar.com/ausschreibung/01c3962c-4633-45cf-ad99-87ff662fe34a/
END:VEVENT
END:VCALENDAR
