BEGIN:VCALENDAR
VERSION:2.0
PRODID:-//AusschreibungsRadar//Timeline//DE
CALSCALE:GREGORIAN
METHOD:PUBLISH
X-WR-CALNAME:Projekt Ex-Post: Dauner Energieprojekte - strategischer Partner zur 
X-WR-TIMEZONE:Europe/Berlin
BEGIN:VEVENT
UID:e657c3d4e7dff41d@ausschreibungsradar.com
DTSTAMP:20260424T062636Z
DTSTART;VALUE=DATE:20250411
DTEND;VALUE=DATE:20250411
SUMMARY:Ausschreibung — Ex-Post: Dauner Energieprojekte - strategischer Partner zur 
DESCRIPTION:Phase: Ausschreibung | Beschreibung: Angebote werden eingeholt | Link: https://ausschreibungsradar.com/ausschreibung/c196818d-d001-4ab7-9b24-1ff63757ea60/
URL:https://ausschreibungsradar.com/ausschreibung/c196818d-d001-4ab7-9b24-1ff63757ea60/
END:VEVENT
BEGIN:VEVENT
UID:bc116e824236294d@ausschreibungsradar.com
DTSTAMP:20260424T062636Z
DTSTART;VALUE=DATE:20250411
DTEND;VALUE=DATE:20250411
SUMMARY:Ausschreibung — Ex-Post: Dauner Energieprojekte - strategischer Partner zur 
DESCRIPTION:Phase: Ausschreibung | Beschreibung: Offizielle Ausschreibung mit Bieterfrist. | Link: https://ausschreibungsradar.com/ausschreibung/d7ee221d-7289-4544-b307-22441798531c/
URL:https://ausschreibungsradar.com/ausschreibung/d7ee221d-7289-4544-b307-22441798531c/
END:VEVENT
BEGIN:VEVENT
UID:4d3cebdbe605c4e8@ausschreibungsradar.com
DTSTAMP:20260424T062636Z
DTSTART;VALUE=DATE:20260420
DTEND;VALUE=DATE:20260420
SUMMARY:Vergabeergebnis — Ex-Post: Dauner Energieprojekte - strategischer Partner zur 
DESCRIPTION:Phase: Vergabeergebnis | Beschreibung: Auftrag wurde zugeschlagen | Link: https://ausschreibungsradar.com/ausschreibung/0b86750a-cfa7-401d-b224-027b7640bb2d/ | Geschätzter Wert: 0 €
URL:https://ausschreibungsradar.com/ausschreibung/0b86750a-cfa7-401d-b224-027b7640bb2d/
END:VEVENT
END:VCALENDAR
