BEGIN:VCALENDAR
VERSION:2.0
PRODID:-//AusschreibungsRadar//Timeline//DE
CALSCALE:GREGORIAN
METHOD:PUBLISH
X-WR-CALNAME:Projekt Stahl-Glas-Türen
X-WR-TIMEZONE:Europe/Berlin
BEGIN:VEVENT
UID:63a55858aef0bb81@ausschreibungsradar.com
DTSTAMP:20260424T225951Z
DTSTART;VALUE=DATE:20241023
DTEND;VALUE=DATE:20241023
SUMMARY:Angebotsfrist — Stahl-Glas-Türen
DESCRIPTION:Phase: Ausschreibung | Beschreibung: Angebote werden eingeholt | Link: https://ausschreibungsradar.com/ausschreibung/8d1b3b8a-e929-464b-95d7-1fea02a3b9f9/
URL:https://ausschreibungsradar.com/ausschreibung/8d1b3b8a-e929-464b-95d7-1fea02a3b9f9/
END:VEVENT
BEGIN:VEVENT
UID:a70798b4db619c65@ausschreibungsradar.com
DTSTAMP:20260424T225951Z
DTSTART;VALUE=DATE:20241219
DTEND;VALUE=DATE:20241219
SUMMARY:Vergabeergebnis — Stahl-Glas-Türen
DESCRIPTION:Phase: Vergabeergebnis | Beschreibung: Auftrag wurde zugeschlagen | Link: https://ausschreibungsradar.com/ausschreibung/0bd7765a-2b28-4b98-b854-69fb273d797c/ | Auftragnehmer: Bran&co Metallbau GmbH
URL:https://ausschreibungsradar.com/ausschreibung/0bd7765a-2b28-4b98-b854-69fb273d797c/
END:VEVENT
END:VCALENDAR
