BEGIN:VCALENDAR
VERSION:2.0
PRODID:-//AusschreibungsRadar//Timeline//DE
CALSCALE:GREGORIAN
METHOD:PUBLISH
X-WR-CALNAME:Projekt Vergabebekanntmachung: Rahmenvertrag über die Lieferung von 
X-WR-TIMEZONE:Europe/Berlin
BEGIN:VEVENT
UID:f4913b6a949519a4@ausschreibungsradar.com
DTSTAMP:20260424T043157Z
DTSTART;VALUE=DATE:20241030
DTEND;VALUE=DATE:20241030
SUMMARY:Ausschreibung — Vergabebekanntmachung: Rahmenvertrag über die Lieferung von 
DESCRIPTION:Phase: Ausschreibung | Beschreibung: Angebote werden eingeholt | Link: https://ausschreibungsradar.com/ausschreibung/8a5c21bb-03f1-4c25-b1ba-faad3d69e888/
URL:https://ausschreibungsradar.com/ausschreibung/8a5c21bb-03f1-4c25-b1ba-faad3d69e888/
END:VEVENT
BEGIN:VEVENT
UID:b37953889191a4eb@ausschreibungsradar.com
DTSTAMP:20260424T043157Z
DTSTART;VALUE=DATE:20241030
DTEND;VALUE=DATE:20241030
SUMMARY:Ausschreibung — Vergabebekanntmachung: Rahmenvertrag über die Lieferung von 
DESCRIPTION:Phase: Ausschreibung | Beschreibung: Offizielle Ausschreibung mit Bieterfrist. | Link: https://ausschreibungsradar.com/ausschreibung/d60b6cdf-9d98-40c9-b88c-35cb6d7b9759/
URL:https://ausschreibungsradar.com/ausschreibung/d60b6cdf-9d98-40c9-b88c-35cb6d7b9759/
END:VEVENT
BEGIN:VEVENT
UID:c91d798838786dc6@ausschreibungsradar.com
DTSTAMP:20260424T043157Z
DTSTART;VALUE=DATE:20250321
DTEND;VALUE=DATE:20250321
SUMMARY:Vergabeergebnis — Vergabebekanntmachung: Rahmenvertrag über die Lieferung von 
DESCRIPTION:Phase: Vergabeergebnis | Beschreibung: Auftrag wurde zugeschlagen | Link: https://ausschreibungsradar.com/ausschreibung/0be4a530-bb4c-46b5-bbac-7ddc43c5a3d8/
URL:https://ausschreibungsradar.com/ausschreibung/0be4a530-bb4c-46b5-bbac-7ddc43c5a3d8/
END:VEVENT
END:VCALENDAR
