BEGIN:VCALENDAR
VERSION:2.0
PRODID:-//AusschreibungsRadar//Timeline//DE
CALSCALE:GREGORIAN
METHOD:PUBLISH
X-WR-CALNAME:Projekt 3 Tragkraftspritzenfahrzeuge TSF-W
X-WR-TIMEZONE:Europe/Berlin
BEGIN:VEVENT
UID:78b79e4a849dcfc9@ausschreibungsradar.com
DTSTAMP:20260424T091047Z
DTSTART;VALUE=DATE:20240716
DTEND;VALUE=DATE:20240716
SUMMARY:Angebotsfrist — 3 Tragkraftspritzenfahrzeuge TSF-W
DESCRIPTION:Phase: Ausschreibung | Beschreibung: Angebote werden eingeholt | Link: https://ausschreibungsradar.com/ausschreibung/0c0d3430-66c1-441b-9d16-d0fae2dbbdd1/
URL:https://ausschreibungsradar.com/ausschreibung/0c0d3430-66c1-441b-9d16-d0fae2dbbdd1/
END:VEVENT
BEGIN:VEVENT
UID:6f66414f022fc51c@ausschreibungsradar.com
DTSTAMP:20260424T091047Z
DTSTART;VALUE=DATE:20241011
DTEND;VALUE=DATE:20241011
SUMMARY:Vergabeergebnis — 3 Tragkraftspritzenfahrzeuge TSF-W
DESCRIPTION:Phase: Vergabeergebnis | Beschreibung: Auftrag wurde zugeschlagen | Link: https://ausschreibungsradar.com/ausschreibung/5e2c4db7-3bf3-48d8-9768-6470dd0f2740/
URL:https://ausschreibungsradar.com/ausschreibung/5e2c4db7-3bf3-48d8-9768-6470dd0f2740/
END:VEVENT
END:VCALENDAR
