BEGIN:VCALENDAR
VERSION:2.0
PRODID:-//AusschreibungsRadar//Timeline//DE
CALSCALE:GREGORIAN
METHOD:PUBLISH
X-WR-CALNAME:Projekt Vergabe eines öffentlichen Dienstleistungsauftrags über Verk
X-WR-TIMEZONE:Europe/Berlin
BEGIN:VEVENT
UID:6e7c79bb9175aa05@ausschreibungsradar.com
DTSTAMP:20260426T012938Z
DTSTART;VALUE=DATE:20241222
DTEND;VALUE=DATE:20241222
SUMMARY:Vorinformation — Vergabe eines öffentlichen Dienstleistungsauftrags über Verk
DESCRIPTION:Phase: Vorinformation | Beschreibung: Vorab-Ankündigung der Vergabestelle — keine verbindliche Ausschreibung. | Link: https://ausschreibungsradar.com/ausschreibung/0c2be7b4-54be-4112-a68f-9311ace06427
URL:https://ausschreibungsradar.com/ausschreibung/0c2be7b4-54be-4112-a68f-9311ace06427/
END:VEVENT
BEGIN:VEVENT
UID:b9e3e6c54c035847@ausschreibungsradar.com
DTSTAMP:20260426T012938Z
DTSTART;VALUE=DATE:20241222
DTEND;VALUE=DATE:20241222
SUMMARY:Vorinformation — Vergabe eines öffentlichen Dienstleistungsauftrags über Verk
DESCRIPTION:Phase: Vorinformation | Beschreibung: Vorab-Ankündigung der Vergabestelle — keine verbindliche Ausschreibung. | Link: https://ausschreibungsradar.com/ausschreibung/fbb4f9ee-6664-4e1a-ba30-da4fa7a3cdb9
URL:https://ausschreibungsradar.com/ausschreibung/fbb4f9ee-6664-4e1a-ba30-da4fa7a3cdb9/
END:VEVENT
END:VCALENDAR
