BEGIN:VCALENDAR
VERSION:2.0
PRODID:-//AusschreibungsRadar//Timeline//DE
CALSCALE:GREGORIAN
METHOD:PUBLISH
X-WR-CALNAME:Projekt Neubau Feuerwehrgerätehaus Langenargen - Metalldach-, Metall
X-WR-TIMEZONE:Europe/Berlin
BEGIN:VEVENT
UID:05430969b09e97c5@ausschreibungsradar.com
DTSTAMP:20260425T155232Z
DTSTART;VALUE=DATE:20240926
DTEND;VALUE=DATE:20240926
SUMMARY:Angebotsfrist — Neubau Feuerwehrgerätehaus Langenargen - Metalldach-\, Metall
DESCRIPTION:Phase: Ausschreibung | Beschreibung: Angebote werden eingeholt | Link: https://ausschreibungsradar.com/ausschreibung/a4cac713-a26c-4b5d-987f-b6089e0652f4/
URL:https://ausschreibungsradar.com/ausschreibung/a4cac713-a26c-4b5d-987f-b6089e0652f4/
END:VEVENT
BEGIN:VEVENT
UID:123069fb6d45db1c@ausschreibungsradar.com
DTSTAMP:20260425T155232Z
DTSTART;VALUE=DATE:20240808
DTEND;VALUE=DATE:20240808
SUMMARY:Ausschreibung — Neubau Feuerwehrgerätehaus Langenargen - Metalldach-\, Metall
DESCRIPTION:Phase: Ausschreibung | Beschreibung: Offizielle Ausschreibung mit Bieterfrist. | Link: https://ausschreibungsradar.com/ausschreibung/cba43c2d-8a06-4f19-83af-126a2c19eb74/
URL:https://ausschreibungsradar.com/ausschreibung/cba43c2d-8a06-4f19-83af-126a2c19eb74/
END:VEVENT
BEGIN:VEVENT
UID:35c753dc9ca9982d@ausschreibungsradar.com
DTSTAMP:20260425T155232Z
DTSTART;VALUE=DATE:20240808
DTEND;VALUE=DATE:20240808
SUMMARY:Ausschreibung — Neubau Feuerwehrgerätehaus Langenargen - Metalldach-\, Metall
DESCRIPTION:Phase: Ausschreibung | Beschreibung: Offizielle Ausschreibung mit Bieterfrist. | Link: https://ausschreibungsradar.com/ausschreibung/264d9a6d-2d4c-4f66-af52-e43442f7824f/
URL:https://ausschreibungsradar.com/ausschreibung/264d9a6d-2d4c-4f66-af52-e43442f7824f/
END:VEVENT
BEGIN:VEVENT
UID:610d15897215fe1a@ausschreibungsradar.com
DTSTAMP:20260425T155232Z
DTSTART;VALUE=DATE:20241202
DTEND;VALUE=DATE:20241202
SUMMARY:Vergabeergebnis — Neubau Feuerwehrgerätehaus Langenargen - Metalldach-\, Metall
DESCRIPTION:Phase: Vergabeergebnis | Beschreibung: Auftrag wurde zugeschlagen | Link: https://ausschreibungsradar.com/ausschreibung/0c7fc886-77ad-4f8b-959d-061ae0ff8e8a/
URL:https://ausschreibungsradar.com/ausschreibung/0c7fc886-77ad-4f8b-959d-061ae0ff8e8a/
END:VEVENT
BEGIN:VEVENT
UID:f142e074a1264eb2@ausschreibungsradar.com
DTSTAMP:20260425T155232Z
DTSTART;VALUE=DATE:20241202
DTEND;VALUE=DATE:20241202
SUMMARY:Zuschlag — Neubau Feuerwehrgerätehaus Langenargen - Metalldach-\, Metall
DESCRIPTION:Phase: Zuschlag | Beschreibung: Vergabeergebnis — Auftrag wurde erteilt oder Verfahren beendet. | Link: https://ausschreibungsradar.com/ausschreibung/c30afb0d-7c55-41fe-be9d-bccd2250fc94/
URL:https://ausschreibungsradar.com/ausschreibung/c30afb0d-7c55-41fe-be9d-bccd2250fc94/
END:VEVENT
END:VCALENDAR
