BEGIN:VCALENDAR
VERSION:2.0
PRODID:-//AusschreibungsRadar//Timeline//DE
CALSCALE:GREGORIAN
METHOD:PUBLISH
X-WR-CALNAME:Projekt Neubau Kindertagesstätte Hegge - HLS
X-WR-TIMEZONE:Europe/Berlin
BEGIN:VEVENT
UID:bf97fd5985fbe13e@ausschreibungsradar.com
DTSTAMP:20260425T110235Z
DTSTART;VALUE=DATE:20250829
DTEND;VALUE=DATE:20250829
SUMMARY:Ausschreibung — Neubau Kindertagesstätte Hegge - HLS
DESCRIPTION:Phase: Ausschreibung | Beschreibung: Angebote werden eingeholt | Link: https://ausschreibungsradar.com/ausschreibung/0ca9400e-3570-45e0-a506-dadaa99f635f/
URL:https://ausschreibungsradar.com/ausschreibung/0ca9400e-3570-45e0-a506-dadaa99f635f/
END:VEVENT
BEGIN:VEVENT
UID:ebf62f3e2c2f2624@ausschreibungsradar.com
DTSTAMP:20260425T110235Z
DTSTART;VALUE=DATE:20250829
DTEND;VALUE=DATE:20250829
SUMMARY:Ausschreibung — Neubau Kindertagesstätte Hegge - HLS
DESCRIPTION:Phase: Ausschreibung | Beschreibung: Offizielle Ausschreibung mit Bieterfrist. | Link: https://ausschreibungsradar.com/ausschreibung/3421f6b5-453e-4b78-a49b-2a57040aa341/
URL:https://ausschreibungsradar.com/ausschreibung/3421f6b5-453e-4b78-a49b-2a57040aa341/
END:VEVENT
BEGIN:VEVENT
UID:73f0c7bb1022a509@ausschreibungsradar.com
DTSTAMP:20260425T110235Z
DTSTART;VALUE=DATE:20250829
DTEND;VALUE=DATE:20250829
SUMMARY:Ausschreibung — Neubau Kindertagesstätte Hegge - HLS
DESCRIPTION:Phase: Ausschreibung | Beschreibung: Offizielle Ausschreibung mit Bieterfrist. | Link: https://ausschreibungsradar.com/ausschreibung/adb561e4-91a8-4ae5-ae7c-97a4504ecb81/
URL:https://ausschreibungsradar.com/ausschreibung/adb561e4-91a8-4ae5-ae7c-97a4504ecb81/
END:VEVENT
BEGIN:VEVENT
UID:f60831b62c8dc35f@ausschreibungsradar.com
DTSTAMP:20260425T110235Z
DTSTART;VALUE=DATE:20260108
DTEND;VALUE=DATE:20260108
SUMMARY:Vergabeergebnis — Neubau Kindertagesstätte Hegge - HLS
DESCRIPTION:Phase: Vergabeergebnis | Beschreibung: Auftrag wurde zugeschlagen | Link: https://ausschreibungsradar.com/ausschreibung/54f3c20b-abef-44af-bb7c-9fc34d42943f/
URL:https://ausschreibungsradar.com/ausschreibung/54f3c20b-abef-44af-bb7c-9fc34d42943f/
END:VEVENT
END:VCALENDAR
