BEGIN:VCALENDAR
VERSION:2.0
PRODID:-//AusschreibungsRadar//Timeline//DE
CALSCALE:GREGORIAN
METHOD:PUBLISH
X-WR-CALNAME:Projekt BGH - Rohbau Erd-, Mauer- und Betonarbeiten 
X-WR-TIMEZONE:Europe/Berlin
BEGIN:VEVENT
UID:12ae3700d86d29fa@ausschreibungsradar.com
DTSTAMP:20260424T001002Z
DTSTART;VALUE=DATE:20250708
DTEND;VALUE=DATE:20250708
SUMMARY:Angebotsfrist — BGH - Rohbau Erd-\, Mauer- und Betonarbeiten 
DESCRIPTION:Phase: Ausschreibung | Beschreibung: Angebote werden eingeholt | Link: https://ausschreibungsradar.com/ausschreibung/0cd4ae20-bbed-4a5d-84c2-7a24a3c68a21/
URL:https://ausschreibungsradar.com/ausschreibung/0cd4ae20-bbed-4a5d-84c2-7a24a3c68a21/
END:VEVENT
BEGIN:VEVENT
UID:fbb0781c3bde7a32@ausschreibungsradar.com
DTSTAMP:20260424T001002Z
DTSTART;VALUE=DATE:20250804
DTEND;VALUE=DATE:20250804
SUMMARY:Vergabeergebnis — BGH - Rohbau Erd-\, Mauer- und Betonarbeiten 
DESCRIPTION:Phase: Vergabeergebnis | Beschreibung: Auftrag wurde zugeschlagen | Link: https://ausschreibungsradar.com/ausschreibung/420dba03-fa99-4c0d-a49e-2bc83572cf19/
URL:https://ausschreibungsradar.com/ausschreibung/420dba03-fa99-4c0d-a49e-2bc83572cf19/
END:VEVENT
END:VCALENDAR
