BEGIN:VCALENDAR
VERSION:2.0
PRODID:-//AusschreibungsRadar//Timeline//DE
CALSCALE:GREGORIAN
METHOD:PUBLISH
X-WR-CALNAME:Projekt Weiterentwicklung des bestehenden Lernstands Mathematik im V
X-WR-TIMEZONE:Europe/Berlin
BEGIN:VEVENT
UID:82bc867b0f5f3e07@ausschreibungsradar.com
DTSTAMP:20260424T182841Z
DTSTART;VALUE=DATE:20251024
DTEND;VALUE=DATE:20251024
SUMMARY:Direktvergabe-Ankündigung — Weiterentwicklung des bestehenden Lernstands Mathematik im V
DESCRIPTION:Phase: Direktvergabe-Ankündigung | Beschreibung: Geplante Direktvergabe (VEAT) — 10 Tage Stillhaltefrist | Link: https://ausschreibungsradar.com/ausschreibung/0d60514a-37b7-4519-8210-e148df912bdc/ | A
URL:https://ausschreibungsradar.com/ausschreibung/0d60514a-37b7-4519-8210-e148df912bdc/
END:VEVENT
BEGIN:VEVENT
UID:1e4d292119001f0f@ausschreibungsradar.com
DTSTAMP:20260424T182841Z
DTSTART;VALUE=DATE:20251120
DTEND;VALUE=DATE:20251120
SUMMARY:Vergabeergebnis — Weiterentwicklung des bestehenden Lernstands Mathematik im V
DESCRIPTION:Phase: Vergabeergebnis | Beschreibung: Auftrag wurde zugeschlagen | Link: https://ausschreibungsradar.com/ausschreibung/a16c9830-1f73-4456-bed6-d6528668eb38/ | Auftragnehmer: MTO Psychologische Forsch
URL:https://ausschreibungsradar.com/ausschreibung/a16c9830-1f73-4456-bed6-d6528668eb38/
END:VEVENT
END:VCALENDAR
