BEGIN:VCALENDAR
VERSION:2.0
PRODID:-//AusschreibungsRadar//Timeline//DE
CALSCALE:GREGORIAN
METHOD:PUBLISH
X-WR-CALNAME:Projekt Vertragsrechtliche Beratung bei der Auslagerung von Dienstle
X-WR-TIMEZONE:Europe/Berlin
BEGIN:VEVENT
UID:af3f00d47803de92@ausschreibungsradar.com
DTSTAMP:20260424T054728Z
DTSTART;VALUE=DATE:20240411
DTEND;VALUE=DATE:20240411
SUMMARY:Ausschreibung — Vertragsrechtliche Beratung bei der Auslagerung von Dienstle
DESCRIPTION:Phase: Ausschreibung | Beschreibung: Angebote werden eingeholt | Link: https://ausschreibungsradar.com/ausschreibung/0d6216e4-fa0a-444f-b34e-08017c11a7c5/
URL:https://ausschreibungsradar.com/ausschreibung/0d6216e4-fa0a-444f-b34e-08017c11a7c5/
END:VEVENT
BEGIN:VEVENT
UID:54cd991efe047f89@ausschreibungsradar.com
DTSTAMP:20260424T054728Z
DTSTART;VALUE=DATE:20240716
DTEND;VALUE=DATE:20240716
SUMMARY:Vergabeergebnis — Vertragsrechtliche Beratung bei der Auslagerung von Dienstle
DESCRIPTION:Phase: Vergabeergebnis | Beschreibung: Auftrag wurde zugeschlagen | Link: https://ausschreibungsradar.com/ausschreibung/f07994f5-4661-41c9-9758-ffda0c399f97/
URL:https://ausschreibungsradar.com/ausschreibung/f07994f5-4661-41c9-9758-ffda0c399f97/
END:VEVENT
END:VCALENDAR
