BEGIN:VCALENDAR
VERSION:2.0
PRODID:-//AusschreibungsRadar//Timeline//DE
CALSCALE:GREGORIAN
METHOD:PUBLISH
X-WR-CALNAME:Projekt Neubau Energiezentrale und Erneuerung Rechenanlage Kläranlag
X-WR-TIMEZONE:Europe/Berlin
BEGIN:VEVENT
UID:3db871f8d084cde7@ausschreibungsradar.com
DTSTAMP:20260425T151709Z
DTSTART;VALUE=DATE:20251007
DTEND;VALUE=DATE:20251007
SUMMARY:Angebotsfrist — Neubau Energiezentrale und Erneuerung Rechenanlage Kläranlag
DESCRIPTION:Phase: Ausschreibung | Beschreibung: Angebote werden eingeholt | Link: https://ausschreibungsradar.com/ausschreibung/0d764793-1677-4ec2-bdbd-388879a1c242/
URL:https://ausschreibungsradar.com/ausschreibung/0d764793-1677-4ec2-bdbd-388879a1c242/
END:VEVENT
END:VCALENDAR
