BEGIN:VCALENDAR
VERSION:2.0
PRODID:-//AusschreibungsRadar//Timeline//DE
CALSCALE:GREGORIAN
METHOD:PUBLISH
X-WR-CALNAME:Projekt Übernahme und Verwertung von Sperrmüll aus dem Landkreis Lim
X-WR-TIMEZONE:Europe/Berlin
BEGIN:VEVENT
UID:a96959f88f69d83a@ausschreibungsradar.com
DTSTAMP:20260425T143518Z
DTSTART;VALUE=DATE:20251110
DTEND;VALUE=DATE:20251110
SUMMARY:Angebotsfrist — Übernahme und Verwertung von Sperrmüll aus dem Landkreis Lim
DESCRIPTION:Phase: Ausschreibung | Beschreibung: Angebote werden eingeholt | Link: https://ausschreibungsradar.com/ausschreibung/0d77ef4f-d158-40ec-a5eb-8917fd63890c/
URL:https://ausschreibungsradar.com/ausschreibung/0d77ef4f-d158-40ec-a5eb-8917fd63890c/
END:VEVENT
BEGIN:VEVENT
UID:764f49849c9b02b2@ausschreibungsradar.com
DTSTAMP:20260425T143518Z
DTSTART;VALUE=DATE:20251218
DTEND;VALUE=DATE:20251218
SUMMARY:Vergabeergebnis — Übernahme und Verwertung von Sperrmüll aus dem Landkreis Lim
DESCRIPTION:Phase: Vergabeergebnis | Beschreibung: Auftrag wurde zugeschlagen | Link: https://ausschreibungsradar.com/ausschreibung/01eea62e-05ec-4d1c-838f-5b58b7d3b915/
URL:https://ausschreibungsradar.com/ausschreibung/01eea62e-05ec-4d1c-838f-5b58b7d3b915/
END:VEVENT
END:VCALENDAR
