BEGIN:VCALENDAR
VERSION:2.0
PRODID:-//AusschreibungsRadar//Timeline//DE
CALSCALE:GREGORIAN
METHOD:PUBLISH
X-WR-CALNAME:Projekt Sickingen-Gymnasium Landstuhl_Gesamtsanierung_1.+2. BA - Lan
X-WR-TIMEZONE:Europe/Berlin
BEGIN:VEVENT
UID:510a2a1438b281dc@ausschreibungsradar.com
DTSTAMP:20260426T011916Z
DTSTART;VALUE=DATE:20250909
DTEND;VALUE=DATE:20250909
SUMMARY:Angebotsfrist — Sickingen-Gymnasium Landstuhl_Gesamtsanierung_1.+2. BA - Lan
DESCRIPTION:Phase: Ausschreibung | Beschreibung: Angebote werden eingeholt | Link: https://ausschreibungsradar.com/ausschreibung/428ba115-d414-406f-b0ca-b5847b50828c/
URL:https://ausschreibungsradar.com/ausschreibung/428ba115-d414-406f-b0ca-b5847b50828c/
END:VEVENT
BEGIN:VEVENT
UID:05d25196a70ca802@ausschreibungsradar.com
DTSTAMP:20260426T011916Z
DTSTART;VALUE=DATE:20260304
DTEND;VALUE=DATE:20260304
SUMMARY:Vergabeergebnis — Sickingen-Gymnasium Landstuhl_Gesamtsanierung_1.+2. BA - Lan
DESCRIPTION:Phase: Vergabeergebnis | Beschreibung: Auftrag wurde zugeschlagen | Link: https://ausschreibungsradar.com/ausschreibung/0d938539-b8e1-4b5d-9a16-1a1f88bb609f/
URL:https://ausschreibungsradar.com/ausschreibung/0d938539-b8e1-4b5d-9a16-1a1f88bb609f/
END:VEVENT
BEGIN:VEVENT
UID:61739524ccd1c330@ausschreibungsradar.com
DTSTAMP:20260426T011916Z
DTSTART;VALUE=DATE:20260304
DTEND;VALUE=DATE:20260304
SUMMARY:Ausschreibung — Sickingen-Gymnasium Landstuhl_Gesamtsanierung_1.+2. BA - Lan
DESCRIPTION:Phase: Ausschreibung | Beschreibung: Offizielle Ausschreibung mit Bieterfrist. | Link: https://ausschreibungsradar.com/ausschreibung/25067006/
URL:https://ausschreibungsradar.com/ausschreibung/25067006/
END:VEVENT
BEGIN:VEVENT
UID:3ff37af5ca7b3d42@ausschreibungsradar.com
DTSTAMP:20260426T011916Z
DTSTART;VALUE=DATE:20260327
DTEND;VALUE=DATE:20260327
SUMMARY:Zuschlag — Sickingen-Gymnasium Landstuhl_Gesamtsanierung_1.+2. BA - Lan
DESCRIPTION:Phase: Zuschlag | Beschreibung: Vergabeergebnis — Auftrag wurde erteilt oder Verfahren beendet. | Link: https://ausschreibungsradar.com/ausschreibung/1104d11c-cf6a-4561-8ca5-c82894757f10/
URL:https://ausschreibungsradar.com/ausschreibung/1104d11c-cf6a-4561-8ca5-c82894757f10/
END:VEVENT
END:VCALENDAR
