BEGIN:VCALENDAR
VERSION:2.0
PRODID:-//AusschreibungsRadar//Timeline//DE
CALSCALE:GREGORIAN
METHOD:PUBLISH
X-WR-CALNAME:Projekt REZ Bayern_45ind_AA München
X-WR-TIMEZONE:Europe/Berlin
BEGIN:VEVENT
UID:95271ae918440a1e@ausschreibungsradar.com
DTSTAMP:20260426T042302Z
DTSTART;VALUE=DATE:20251029
DTEND;VALUE=DATE:20251029
SUMMARY:Ausschreibung — REZ Bayern_45ind_AA München
DESCRIPTION:Phase: Ausschreibung | Beschreibung: Angebote werden eingeholt | Link: https://ausschreibungsradar.com/ausschreibung/0e2fcdb7-2f4b-4422-a239-b2ceea9a7cc1/
URL:https://ausschreibungsradar.com/ausschreibung/0e2fcdb7-2f4b-4422-a239-b2ceea9a7cc1/
END:VEVENT
BEGIN:VEVENT
UID:e4ca18233950b1a8@ausschreibungsradar.com
DTSTAMP:20260426T042302Z
DTSTART;VALUE=DATE:20251104
DTEND;VALUE=DATE:20251104
SUMMARY:Ausschreibung — REZ Bayern_45ind_AA München
DESCRIPTION:Phase: Ausschreibung | Beschreibung: Offizielle Ausschreibung mit Bieterfrist. | Link: https://ausschreibungsradar.com/ausschreibung/c0e1247c-de52-463f-8112-0c5223d4a6e4/
URL:https://ausschreibungsradar.com/ausschreibung/c0e1247c-de52-463f-8112-0c5223d4a6e4/
END:VEVENT
BEGIN:VEVENT
UID:414b31240ca077e8@ausschreibungsradar.com
DTSTAMP:20260426T042302Z
DTSTART;VALUE=DATE:20251107
DTEND;VALUE=DATE:20251107
SUMMARY:Zuschlag — REZ Bayern_45ind_AA München
DESCRIPTION:Phase: Zuschlag | Beschreibung: Vergabeergebnis — Auftrag wurde erteilt oder Verfahren beendet. | Link: https://ausschreibungsradar.com/ausschreibung/1ff6d5cd-601e-4efb-94b6-2e8cda4e42ca/
URL:https://ausschreibungsradar.com/ausschreibung/1ff6d5cd-601e-4efb-94b6-2e8cda4e42ca/
END:VEVENT
BEGIN:VEVENT
UID:07869fbbcec49284@ausschreibungsradar.com
DTSTAMP:20260426T042302Z
DTSTART;VALUE=DATE:20260130
DTEND;VALUE=DATE:20260130
SUMMARY:Vergabeergebnis — REZ Bayern_45ind_AA München
DESCRIPTION:Phase: Vergabeergebnis | Beschreibung: Auftrag wurde zugeschlagen | Link: https://ausschreibungsradar.com/ausschreibung/3dbfd593-15db-4783-a06b-48dc61d90eba/
URL:https://ausschreibungsradar.com/ausschreibung/3dbfd593-15db-4783-a06b-48dc61d90eba/
END:VEVENT
END:VCALENDAR
