BEGIN:VCALENDAR
VERSION:2.0
PRODID:-//AusschreibungsRadar//Timeline//DE
CALSCALE:GREGORIAN
METHOD:PUBLISH
X-WR-CALNAME:Projekt Generalsanierung Grundschule Kirchroth - 15 Fliesenarbeiten
X-WR-TIMEZONE:Europe/Berlin
BEGIN:VEVENT
UID:3f87f19d551ce5b8@ausschreibungsradar.com
DTSTAMP:20260425T024926Z
DTSTART;VALUE=DATE:20250410
DTEND;VALUE=DATE:20250410
SUMMARY:Ausschreibung — Generalsanierung Grundschule Kirchroth - 15 Fliesenarbeiten
DESCRIPTION:Phase: Ausschreibung | Beschreibung: Offizielle Ausschreibung mit Bieterfrist. | Link: https://ausschreibungsradar.com/ausschreibung/cf223889-c05b-46c7-9328-afb29f5d1a6e/
URL:https://ausschreibungsradar.com/ausschreibung/cf223889-c05b-46c7-9328-afb29f5d1a6e/
END:VEVENT
BEGIN:VEVENT
UID:2b5869aa5cddb798@ausschreibungsradar.com
DTSTAMP:20260425T024926Z
DTSTART;VALUE=DATE:20250506
DTEND;VALUE=DATE:20250506
SUMMARY:Angebotsfrist — Generalsanierung Grundschule Kirchroth - 15 Fliesenarbeiten
DESCRIPTION:Phase: Ausschreibung | Beschreibung: Angebote werden eingeholt | Link: https://ausschreibungsradar.com/ausschreibung/0e56ce5f-deed-4731-a62b-168d09eadbfc/
URL:https://ausschreibungsradar.com/ausschreibung/0e56ce5f-deed-4731-a62b-168d09eadbfc/
END:VEVENT
BEGIN:VEVENT
UID:9da3e2438fd8617b@ausschreibungsradar.com
DTSTAMP:20260425T024926Z
DTSTART;VALUE=DATE:20250602
DTEND;VALUE=DATE:20250602
SUMMARY:Vergabeergebnis — Generalsanierung Grundschule Kirchroth - 15 Fliesenarbeiten
DESCRIPTION:Phase: Vergabeergebnis | Beschreibung: Auftrag wurde zugeschlagen | Link: https://ausschreibungsradar.com/ausschreibung/310a0bc4-9fe3-42a0-8ae4-ef4c4908cf74/
URL:https://ausschreibungsradar.com/ausschreibung/310a0bc4-9fe3-42a0-8ae4-ef4c4908cf74/
END:VEVENT
END:VCALENDAR
