BEGIN:VCALENDAR
VERSION:2.0
PRODID:-//AusschreibungsRadar//Timeline//DE
CALSCALE:GREGORIAN
METHOD:PUBLISH
X-WR-CALNAME:Projekt Beschaffung von Lehrerdienstgeräten und Schülerleihgeräten
X-WR-TIMEZONE:Europe/Berlin
BEGIN:VEVENT
UID:ec9e905bc957a870@ausschreibungsradar.com
DTSTAMP:20260424T091021Z
DTSTART;VALUE=DATE:20251126
DTEND;VALUE=DATE:20251126
SUMMARY:Angebotsfrist — Beschaffung von Lehrerdienstgeräten und Schülerleihgeräten
DESCRIPTION:Phase: Ausschreibung | Beschreibung: Angebote werden eingeholt | Link: https://ausschreibungsradar.com/ausschreibung/0eef99a1-2b6f-4990-889f-a383155dcfb5/ | Geschätzter Wert: 322000 €
URL:https://ausschreibungsradar.com/ausschreibung/0eef99a1-2b6f-4990-889f-a383155dcfb5/
END:VEVENT
BEGIN:VEVENT
UID:010afa1215946e75@ausschreibungsradar.com
DTSTAMP:20260424T091021Z
DTSTART;VALUE=DATE:20251107
DTEND;VALUE=DATE:20251107
SUMMARY:Ausschreibung — Beschaffung von Lehrerdienstgeräten und Schülerleihgeräten
DESCRIPTION:Phase: Ausschreibung | Beschreibung: Offizielle Ausschreibung mit Bieterfrist. | Link: https://ausschreibungsradar.com/ausschreibung/1b1e7a46-7bf2-48fc-9301-7005122b09fe/
URL:https://ausschreibungsradar.com/ausschreibung/1b1e7a46-7bf2-48fc-9301-7005122b09fe/
END:VEVENT
END:VCALENDAR
