BEGIN:VCALENDAR
VERSION:2.0
PRODID:-//AusschreibungsRadar//Timeline//DE
CALSCALE:GREGORIAN
METHOD:PUBLISH
X-WR-CALNAME:Projekt Estricharbeiten DIN 18560, 18195-4
X-WR-TIMEZONE:Europe/Berlin
BEGIN:VEVENT
UID:cc8a560be59a2c8b@ausschreibungsradar.com
DTSTAMP:20260424T035139Z
DTSTART;VALUE=DATE:20260430
DTEND;VALUE=DATE:20260430
SUMMARY:Angebotsfrist — Estricharbeiten DIN 18560\, 18195-4
DESCRIPTION:Phase: Ausschreibung | Beschreibung: Angebote werden eingeholt | Link: https://ausschreibungsradar.com/ausschreibung/0f1bf5e7-d50a-470f-b3d0-39ec3b033609/
URL:https://ausschreibungsradar.com/ausschreibung/0f1bf5e7-d50a-470f-b3d0-39ec3b033609/
END:VEVENT
BEGIN:VEVENT
UID:d7e50807c7a51a6f@ausschreibungsradar.com
DTSTAMP:20260424T035139Z
DTSTART;VALUE=DATE:20260305
DTEND;VALUE=DATE:20260305
SUMMARY:Ausschreibung — Estricharbeiten DIN 18560\, 18195-4
DESCRIPTION:Phase: Ausschreibung | Beschreibung: Offizielle Ausschreibung mit Bieterfrist. | Link: https://ausschreibungsradar.com/ausschreibung/70d893da-ad9c-4f15-88d3-ef0f5fd1c844/
URL:https://ausschreibungsradar.com/ausschreibung/70d893da-ad9c-4f15-88d3-ef0f5fd1c844/
END:VEVENT
BEGIN:VEVENT
UID:dfc15541d10512b1@ausschreibungsradar.com
DTSTAMP:20260424T035139Z
DTSTART;VALUE=DATE:20260305
DTEND;VALUE=DATE:20260305
SUMMARY:Ausschreibung — Estricharbeiten DIN 18560\, 18195-4
DESCRIPTION:Phase: Ausschreibung | Beschreibung: Offizielle Ausschreibung mit Bieterfrist. | Link: https://ausschreibungsradar.com/ausschreibung/527b7d87-1fbc-40bc-abc8-68051fa06629/
URL:https://ausschreibungsradar.com/ausschreibung/527b7d87-1fbc-40bc-abc8-68051fa06629/
END:VEVENT
END:VCALENDAR
