BEGIN:VCALENDAR
VERSION:2.0
PRODID:-//AusschreibungsRadar//Timeline//DE
CALSCALE:GREGORIAN
METHOD:PUBLISH
X-WR-CALNAME:Projekt BImA, BPol Bundespolizei Potsdam, Comp. Haus 8, 13, 14, Dach
X-WR-TIMEZONE:Europe/Berlin
BEGIN:VEVENT
UID:f0eb5e9a49e354bc@ausschreibungsradar.com
DTSTAMP:20260424T191420Z
DTSTART;VALUE=DATE:20251201
DTEND;VALUE=DATE:20251201
SUMMARY:Angebotsfrist — BImA\, BPol Bundespolizei Potsdam\, Comp. Haus 8\, 13\, 14\, Dach
DESCRIPTION:Phase: Ausschreibung | Beschreibung: Angebote werden eingeholt | Link: https://ausschreibungsradar.com/ausschreibung/c1fd2d9b-fda0-4f20-b597-d1144cddc63c/
URL:https://ausschreibungsradar.com/ausschreibung/c1fd2d9b-fda0-4f20-b597-d1144cddc63c/
END:VEVENT
BEGIN:VEVENT
UID:bc9b4a6803da7630@ausschreibungsradar.com
DTSTAMP:20260424T191420Z
DTSTART;VALUE=DATE:20260119
DTEND;VALUE=DATE:20260119
SUMMARY:Vergabeergebnis — BImA\, BPol Bundespolizei Potsdam\, Comp. Haus 8\, 13\, 14\, Dach
DESCRIPTION:Phase: Vergabeergebnis | Beschreibung: Sonstige Gründe | Link: https://ausschreibungsradar.com/ausschreibung/0fb428df-5218-4c59-9c21-5e5f2d1fd312/
URL:https://ausschreibungsradar.com/ausschreibung/0fb428df-5218-4c59-9c21-5e5f2d1fd312/
END:VEVENT
BEGIN:VEVENT
UID:8eb9381049a9dbbc@ausschreibungsradar.com
DTSTAMP:20260424T191420Z
DTSTART;VALUE=DATE:20260206
DTEND;VALUE=DATE:20260206
SUMMARY:Zuschlag — BImA\, BPol Bundespolizei Potsdam\, Comp. Haus 8\, 13\, 14\, Dach
DESCRIPTION:Phase: Zuschlag | Beschreibung: Vergabeergebnis — Auftrag wurde erteilt oder Verfahren beendet. | Link: https://ausschreibungsradar.com/ausschreibung/9fab9d24-0e57-44f5-83a5-b352635f227a/
URL:https://ausschreibungsradar.com/ausschreibung/9fab9d24-0e57-44f5-83a5-b352635f227a/
END:VEVENT
BEGIN:VEVENT
UID:a1667b8c4cfe877d@ausschreibungsradar.com
DTSTAMP:20260424T191420Z
DTSTART;VALUE=DATE:20260217
DTEND;VALUE=DATE:20260217
SUMMARY:Ausschreibung — BImA\, BPol Bundespolizei Potsdam\, Comp. Haus 8\, 13\, 14\, Dach
DESCRIPTION:Phase: Ausschreibung | Beschreibung: Offizielle Ausschreibung mit Bieterfrist. | Link: https://ausschreibungsradar.com/ausschreibung/313d513e-7022-4cf6-8fb0-d71bd8e72753/
URL:https://ausschreibungsradar.com/ausschreibung/313d513e-7022-4cf6-8fb0-d71bd8e72753/
END:VEVENT
END:VCALENDAR
