BEGIN:VCALENDAR
VERSION:2.0
PRODID:-//AusschreibungsRadar//Timeline//DE
CALSCALE:GREGORIAN
METHOD:PUBLISH
X-WR-CALNAME:Projekt Errichtung eines Gymnasiums (BT 4) am Schulzentrum Ochtrup -
X-WR-TIMEZONE:Europe/Berlin
BEGIN:VEVENT
UID:b71e448a3220a082@ausschreibungsradar.com
DTSTAMP:20260424T225937Z
DTSTART;VALUE=DATE:20260115
DTEND;VALUE=DATE:20260115
SUMMARY:Ausschreibung — Errichtung eines Gymnasiums (BT 4) am Schulzentrum Ochtrup -
DESCRIPTION:Phase: Ausschreibung | Beschreibung: Offizielle Ausschreibung mit Bieterfrist. | Link: https://ausschreibungsradar.com/ausschreibung/bbd3f5e0-d6d9-4c1b-844f-913d9144d589/
URL:https://ausschreibungsradar.com/ausschreibung/bbd3f5e0-d6d9-4c1b-844f-913d9144d589/
END:VEVENT
BEGIN:VEVENT
UID:0808e762d5d571d0@ausschreibungsradar.com
DTSTAMP:20260424T225937Z
DTSTART;VALUE=DATE:20260318
DTEND;VALUE=DATE:20260318
SUMMARY:Angebotsfrist — Errichtung eines Gymnasiums (BT 4) am Schulzentrum Ochtrup -
DESCRIPTION:Phase: Ausschreibung | Beschreibung: Angebote werden eingeholt | Link: https://ausschreibungsradar.com/ausschreibung/0fb6b8e9-ca17-45a1-b466-75b993748c6a/
URL:https://ausschreibungsradar.com/ausschreibung/0fb6b8e9-ca17-45a1-b466-75b993748c6a/
END:VEVENT
END:VCALENDAR
