BEGIN:VCALENDAR
VERSION:2.0
PRODID:-//AusschreibungsRadar//Timeline//DE
CALSCALE:GREGORIAN
METHOD:PUBLISH
X-WR-CALNAME:Projekt Rahmenvereinbarung über die Lieferung und Einrichtung von Bü
X-WR-TIMEZONE:Europe/Berlin
BEGIN:VEVENT
UID:4020e616fc173687@ausschreibungsradar.com
DTSTAMP:20260425T012841Z
DTSTART;VALUE=DATE:20250901
DTEND;VALUE=DATE:20250901
SUMMARY:Angebotsfrist — Rahmenvereinbarung über die Lieferung und Einrichtung von Bü
DESCRIPTION:Phase: Ausschreibung | Beschreibung: Angebote werden eingeholt | Link: https://ausschreibungsradar.com/ausschreibung/0fc219f6-6639-4e1c-9221-3cf08324f332/
URL:https://ausschreibungsradar.com/ausschreibung/0fc219f6-6639-4e1c-9221-3cf08324f332/
END:VEVENT
BEGIN:VEVENT
UID:4bf5dd96e6b920d8@ausschreibungsradar.com
DTSTAMP:20260425T012841Z
DTSTART;VALUE=DATE:20260310
DTEND;VALUE=DATE:20260310
SUMMARY:Vergabeergebnis — Rahmenvereinbarung über die Lieferung und Einrichtung von Bü
DESCRIPTION:Phase: Vergabeergebnis | Beschreibung: Auftrag wurde zugeschlagen | Link: https://ausschreibungsradar.com/ausschreibung/769279eb-d678-495b-a51e-db71d12641f6/ | Auftragnehmer: Oberhaizinger GmbH
URL:https://ausschreibungsradar.com/ausschreibung/769279eb-d678-495b-a51e-db71d12641f6/
END:VEVENT
END:VCALENDAR
