BEGIN:VCALENDAR
VERSION:2.0
PRODID:-//AusschreibungsRadar//Timeline//DE
CALSCALE:GREGORIAN
METHOD:PUBLISH
X-WR-CALNAME:Projekt KAW Northeim - Deponie Blankenhagen - Transport und Verwertu
X-WR-TIMEZONE:Europe/Berlin
BEGIN:VEVENT
UID:860ae384eeba4673@ausschreibungsradar.com
DTSTAMP:20260425T151753Z
DTSTART;VALUE=DATE:20260224
DTEND;VALUE=DATE:20260224
SUMMARY:Ausschreibung — KAW Northeim - Deponie Blankenhagen - Transport und Verwertu
DESCRIPTION:Phase: Ausschreibung | Beschreibung: Angebote werden eingeholt | Link: https://ausschreibungsradar.com/ausschreibung/0fee7492-27e0-4567-8902-ef457571ec60/ | Geschätzter Wert: 517259 €
URL:https://ausschreibungsradar.com/ausschreibung/0fee7492-27e0-4567-8902-ef457571ec60/
END:VEVENT
BEGIN:VEVENT
UID:acc3c0003d2bfd77@ausschreibungsradar.com
DTSTAMP:20260425T151753Z
DTSTART;VALUE=DATE:20260224
DTEND;VALUE=DATE:20260224
SUMMARY:Ausschreibung — KAW Northeim - Deponie Blankenhagen - Transport und Verwertu
DESCRIPTION:Phase: Ausschreibung | Beschreibung: Offizielle Ausschreibung mit Bieterfrist. | Link: https://ausschreibungsradar.com/ausschreibung/9f1de375-74a0-4c15-99b1-346483d43e21/
URL:https://ausschreibungsradar.com/ausschreibung/9f1de375-74a0-4c15-99b1-346483d43e21/
END:VEVENT
END:VCALENDAR
