BEGIN:VCALENDAR
VERSION:2.0
PRODID:-//AusschreibungsRadar//Timeline//DE
CALSCALE:GREGORIAN
METHOD:PUBLISH
X-WR-CALNAME:Projekt 62-2025-488 - Rahmenvereinbarung über die Lieferung von Natu
X-WR-TIMEZONE:Europe/Berlin
BEGIN:VEVENT
UID:a517974e5ad55cdb@ausschreibungsradar.com
DTSTAMP:20260425T104125Z
DTSTART;VALUE=DATE:20260203
DTEND;VALUE=DATE:20260203
SUMMARY:Angebotsfrist — 62-2025-488 - Rahmenvereinbarung über die Lieferung von Natu
DESCRIPTION:Phase: Ausschreibung | Beschreibung: Angebote werden eingeholt | Link: https://ausschreibungsradar.com/ausschreibung/0fff3494-3ec0-4042-a138-e6be2af2fa9f/
URL:https://ausschreibungsradar.com/ausschreibung/0fff3494-3ec0-4042-a138-e6be2af2fa9f/
END:VEVENT
BEGIN:VEVENT
UID:14b62498155b914c@ausschreibungsradar.com
DTSTAMP:20260425T104125Z
DTSTART;VALUE=DATE:20260320
DTEND;VALUE=DATE:20260320
SUMMARY:Vergabeergebnis — 62-2025-488 - Rahmenvereinbarung über die Lieferung von Natu
DESCRIPTION:Phase: Vergabeergebnis | Beschreibung: Auftrag wurde zugeschlagen | Link: https://ausschreibungsradar.com/ausschreibung/947eae5c-e325-4b24-872a-65760474795c/ | Auftragnehmer: BESCO Berliner Steinconto
URL:https://ausschreibungsradar.com/ausschreibung/947eae5c-e325-4b24-872a-65760474795c/
END:VEVENT
END:VCALENDAR
