BEGIN:VCALENDAR
VERSION:2.0
PRODID:-//AusschreibungsRadar//Timeline//DE
CALSCALE:GREGORIAN
METHOD:PUBLISH
X-WR-CALNAME:Projekt Dachabichtungsarbeiten
X-WR-TIMEZONE:Europe/Berlin
BEGIN:VEVENT
UID:61e95151ac52adc2@ausschreibungsradar.com
DTSTAMP:20260425T194311Z
DTSTART;VALUE=DATE:20250310
DTEND;VALUE=DATE:20250310
SUMMARY:Angebotsfrist — Dachabichtungsarbeiten
DESCRIPTION:Phase: Ausschreibung | Beschreibung: Angebote werden eingeholt | Link: https://ausschreibungsradar.com/ausschreibung/104da903-bdda-48c0-a6b1-03d39ce500f3/
URL:https://ausschreibungsradar.com/ausschreibung/104da903-bdda-48c0-a6b1-03d39ce500f3/
END:VEVENT
END:VCALENDAR
