BEGIN:VCALENDAR
VERSION:2.0
PRODID:-//AusschreibungsRadar//Timeline//DE
CALSCALE:GREGORIAN
METHOD:PUBLISH
X-WR-CALNAME:Projekt Betreuungsdienstleistung für die Routineaufgaben der ICOS At
X-WR-TIMEZONE:Europe/Berlin
BEGIN:VEVENT
UID:bf4abbfd13bc0c78@ausschreibungsradar.com
DTSTAMP:20260425T102458Z
DTSTART;VALUE=DATE:20260526
DTEND;VALUE=DATE:20260526
SUMMARY:Angebotsfrist — Betreuungsdienstleistung für die Routineaufgaben der ICOS At
DESCRIPTION:Phase: Ausschreibung | Beschreibung: Angebote werden eingeholt | Link: https://ausschreibungsradar.com/ausschreibung/105ffe3b-77ce-44aa-b8ca-7cc366251956/
URL:https://ausschreibungsradar.com/ausschreibung/105ffe3b-77ce-44aa-b8ca-7cc366251956/
END:VEVENT
BEGIN:VEVENT
UID:f0b00586a34a42f6@ausschreibungsradar.com
DTSTAMP:20260425T102458Z
DTSTART;VALUE=DATE:20260421
DTEND;VALUE=DATE:20260421
SUMMARY:Ausschreibung — Betreuungsdienstleistung für die Routineaufgaben der ICOS At
DESCRIPTION:Phase: Ausschreibung | Beschreibung: Offizielle Ausschreibung mit Bieterfrist. | Link: https://ausschreibungsradar.com/ausschreibung/ted-271559-2026/
URL:https://ausschreibungsradar.com/ausschreibung/ted-271559-2026/
END:VEVENT
END:VCALENDAR
