BEGIN:VCALENDAR
VERSION:2.0
PRODID:-//AusschreibungsRadar//Timeline//DE
CALSCALE:GREGORIAN
METHOD:PUBLISH
X-WR-CALNAME:Projekt Neubau Lehrschwimmorientiertes Bad, Los 02 - Pfahlarbeiten (
X-WR-TIMEZONE:Europe/Berlin
BEGIN:VEVENT
UID:5e7004970110ea4f@ausschreibungsradar.com
DTSTAMP:20260425T012249Z
DTSTART;VALUE=DATE:20250221
DTEND;VALUE=DATE:20250221
SUMMARY:Angebotsfrist — Neubau Lehrschwimmorientiertes Bad\, Los 02 - Pfahlarbeiten (
DESCRIPTION:Phase: Ausschreibung | Beschreibung: Angebote werden eingeholt | Link: https://ausschreibungsradar.com/ausschreibung/1066ca18-ce79-4714-a988-7e4841d5c877/
URL:https://ausschreibungsradar.com/ausschreibung/1066ca18-ce79-4714-a988-7e4841d5c877/
END:VEVENT
BEGIN:VEVENT
UID:5a38d643556d372c@ausschreibungsradar.com
DTSTAMP:20260425T012249Z
DTSTART;VALUE=DATE:20250117
DTEND;VALUE=DATE:20250117
SUMMARY:Ausschreibung — Neubau Lehrschwimmorientiertes Bad\, Los 02 - Pfahlarbeiten (
DESCRIPTION:Phase: Ausschreibung | Beschreibung: Offizielle Ausschreibung mit Bieterfrist. | Link: https://ausschreibungsradar.com/ausschreibung/6d3e4bc5-de4a-4f3c-a2e2-83af0cbe109c/
URL:https://ausschreibungsradar.com/ausschreibung/6d3e4bc5-de4a-4f3c-a2e2-83af0cbe109c/
END:VEVENT
BEGIN:VEVENT
UID:ff5f6ba5ac029370@ausschreibungsradar.com
DTSTAMP:20260425T012249Z
DTSTART;VALUE=DATE:20250613
DTEND;VALUE=DATE:20250613
SUMMARY:Vergabeergebnis — Neubau Lehrschwimmorientiertes Bad\, Los 02 - Pfahlarbeiten (
DESCRIPTION:Phase: Vergabeergebnis | Beschreibung: Auftrag wurde zugeschlagen | Link: https://ausschreibungsradar.com/ausschreibung/3747e491-3617-4935-a622-d31e9f24ce7d/
URL:https://ausschreibungsradar.com/ausschreibung/3747e491-3617-4935-a622-d31e9f24ce7d/
END:VEVENT
END:VCALENDAR
