BEGIN:VCALENDAR
VERSION:2.0
PRODID:-//AusschreibungsRadar//Timeline//DE
CALSCALE:GREGORIAN
METHOD:PUBLISH
X-WR-CALNAME:Projekt Lieferung von vier Herz-Lungen-Maschinen
X-WR-TIMEZONE:Europe/Berlin
BEGIN:VEVENT
UID:402f9e289fbd85f3@ausschreibungsradar.com
DTSTAMP:20260425T124243Z
DTSTART;VALUE=DATE:20250715
DTEND;VALUE=DATE:20250715
SUMMARY:Angebotsfrist — Lieferung von vier Herz-Lungen-Maschinen
DESCRIPTION:Phase: Ausschreibung | Beschreibung: Angebote werden eingeholt | Link: https://ausschreibungsradar.com/ausschreibung/108efd4f-bc15-4705-b91f-0258ca777a76/
URL:https://ausschreibungsradar.com/ausschreibung/108efd4f-bc15-4705-b91f-0258ca777a76/
END:VEVENT
BEGIN:VEVENT
UID:126057019074b4d0@ausschreibungsradar.com
DTSTAMP:20260425T124243Z
DTSTART;VALUE=DATE:20250511
DTEND;VALUE=DATE:20250511
SUMMARY:Ausschreibung — Lieferung von vier Herz-Lungen-Maschinen
DESCRIPTION:Phase: Ausschreibung | Beschreibung: Offizielle Ausschreibung mit Bieterfrist. | Link: https://ausschreibungsradar.com/ausschreibung/8b802217-a9db-4e02-87fd-a6fcef8d6fc3/
URL:https://ausschreibungsradar.com/ausschreibung/8b802217-a9db-4e02-87fd-a6fcef8d6fc3/
END:VEVENT
BEGIN:VEVENT
UID:bb815389a9baa6a1@ausschreibungsradar.com
DTSTAMP:20260425T124243Z
DTSTART;VALUE=DATE:20250511
DTEND;VALUE=DATE:20250511
SUMMARY:Ausschreibung — Lieferung von vier Herz-Lungen-Maschinen
DESCRIPTION:Phase: Ausschreibung | Beschreibung: Offizielle Ausschreibung mit Bieterfrist. | Link: https://ausschreibungsradar.com/ausschreibung/98cd1619-62fe-4de6-9b68-4fe76f949aa6/
URL:https://ausschreibungsradar.com/ausschreibung/98cd1619-62fe-4de6-9b68-4fe76f949aa6/
END:VEVENT
BEGIN:VEVENT
UID:a10bd0d41b2129a1@ausschreibungsradar.com
DTSTAMP:20260425T124243Z
DTSTART;VALUE=DATE:20250511
DTEND;VALUE=DATE:20250511
SUMMARY:Ausschreibung — Lieferung von vier Herz-Lungen-Maschinen
DESCRIPTION:Phase: Ausschreibung | Beschreibung: Offizielle Ausschreibung mit Bieterfrist. | Link: https://ausschreibungsradar.com/ausschreibung/7e9e52ff-62c8-44dd-9e31-46199ef07274/
URL:https://ausschreibungsradar.com/ausschreibung/7e9e52ff-62c8-44dd-9e31-46199ef07274/
END:VEVENT
BEGIN:VEVENT
UID:899f9406cd81db86@ausschreibungsradar.com
DTSTAMP:20260425T124243Z
DTSTART;VALUE=DATE:20250511
DTEND;VALUE=DATE:20250511
SUMMARY:Ausschreibung — Lieferung von vier Herz-Lungen-Maschinen
DESCRIPTION:Phase: Ausschreibung | Beschreibung: Offizielle Ausschreibung mit Bieterfrist. | Link: https://ausschreibungsradar.com/ausschreibung/06f3d1f7-c450-4d5c-b029-9ef492482536/
URL:https://ausschreibungsradar.com/ausschreibung/06f3d1f7-c450-4d5c-b029-9ef492482536/
END:VEVENT
BEGIN:VEVENT
UID:49686b189d24d504@ausschreibungsradar.com
DTSTAMP:20260425T124243Z
DTSTART;VALUE=DATE:20250901
DTEND;VALUE=DATE:20250901
SUMMARY:Vergabeergebnis — Lieferung von vier Herz-Lungen-Maschinen
DESCRIPTION:Phase: Vergabeergebnis | Beschreibung: Auftrag wurde zugeschlagen | Link: https://ausschreibungsradar.com/ausschreibung/81f45699-ade2-44a1-b240-51ca99e9ce67/
URL:https://ausschreibungsradar.com/ausschreibung/81f45699-ade2-44a1-b240-51ca99e9ce67/
END:VEVENT
END:VCALENDAR
