BEGIN:VCALENDAR
VERSION:2.0
PRODID:-//AusschreibungsRadar//Timeline//DE
CALSCALE:GREGORIAN
METHOD:PUBLISH
X-WR-CALNAME:Projekt Umbau und Erweiterung Feuerwehrgerätehaus Nord - Planungslei
X-WR-TIMEZONE:Europe/Berlin
BEGIN:VEVENT
UID:026648788882ace5@ausschreibungsradar.com
DTSTAMP:20260425T201618Z
DTSTART;VALUE=DATE:20250324
DTEND;VALUE=DATE:20250324
SUMMARY:Ausschreibung — Umbau und Erweiterung Feuerwehrgerätehaus Nord - Planungslei
DESCRIPTION:Phase: Ausschreibung | Beschreibung: Angebote werden eingeholt | Link: https://ausschreibungsradar.com/ausschreibung/10df191a-a521-48de-9bf1-e4b7ed21fc1b/
URL:https://ausschreibungsradar.com/ausschreibung/10df191a-a521-48de-9bf1-e4b7ed21fc1b/
END:VEVENT
BEGIN:VEVENT
UID:e95ff3946e5e35df@ausschreibungsradar.com
DTSTAMP:20260425T201618Z
DTSTART;VALUE=DATE:20250731
DTEND;VALUE=DATE:20250731
SUMMARY:Vergabeergebnis — Umbau und Erweiterung Feuerwehrgerätehaus Nord - Planungslei
DESCRIPTION:Phase: Vergabeergebnis | Beschreibung: Auftrag wurde zugeschlagen | Link: https://ausschreibungsradar.com/ausschreibung/617b389f-b8dd-4039-9ceb-94f814dabd77/
URL:https://ausschreibungsradar.com/ausschreibung/617b389f-b8dd-4039-9ceb-94f814dabd77/
END:VEVENT
END:VCALENDAR
