BEGIN:VCALENDAR
VERSION:2.0
PRODID:-//AusschreibungsRadar//Timeline//DE
CALSCALE:GREGORIAN
METHOD:PUBLISH
X-WR-CALNAME:Projekt Erweiterung Betriebshof Kamen - Bauhauptarbeiten
X-WR-TIMEZONE:Europe/Berlin
BEGIN:VEVENT
UID:8cc19f779eec0f30@ausschreibungsradar.com
DTSTAMP:20260425T173229Z
DTSTART;VALUE=DATE:20250328
DTEND;VALUE=DATE:20250328
SUMMARY:Angebotsfrist — Erweiterung Betriebshof Kamen - Bauhauptarbeiten
DESCRIPTION:Phase: Ausschreibung | Beschreibung: Angebote werden eingeholt | Link: https://ausschreibungsradar.com/ausschreibung/10f7da9d-28fb-4b99-882f-e78e0658f56b/
URL:https://ausschreibungsradar.com/ausschreibung/10f7da9d-28fb-4b99-882f-e78e0658f56b/
END:VEVENT
BEGIN:VEVENT
UID:43a6f2d88117bb07@ausschreibungsradar.com
DTSTAMP:20260425T173229Z
DTSTART;VALUE=DATE:20250324
DTEND;VALUE=DATE:20250324
SUMMARY:Vergabeergebnis — Erweiterung Betriebshof Kamen - Bauhauptarbeiten
DESCRIPTION:Phase: Vergabeergebnis | Beschreibung: Auftrag wurde zugeschlagen | Link: https://ausschreibungsradar.com/ausschreibung/b925060e-46a2-4671-bc5c-ff7ba3992782/
URL:https://ausschreibungsradar.com/ausschreibung/b925060e-46a2-4671-bc5c-ff7ba3992782/
END:VEVENT
END:VCALENDAR
