BEGIN:VCALENDAR
VERSION:2.0
PRODID:-//AusschreibungsRadar//Timeline//DE
CALSCALE:GREGORIAN
METHOD:PUBLISH
X-WR-CALNAME:Projekt Prüfung ortsveränderlicher und ortsfester Anlagen
X-WR-TIMEZONE:Europe/Berlin
BEGIN:VEVENT
UID:d70f2e748dcf4fee@ausschreibungsradar.com
DTSTAMP:20260426T021153Z
DTSTART;VALUE=DATE:20240905
DTEND;VALUE=DATE:20240905
SUMMARY:Ausschreibung — Prüfung ortsveränderlicher und ortsfester Anlagen
DESCRIPTION:Phase: Ausschreibung | Beschreibung: Angebote werden eingeholt | Link: https://ausschreibungsradar.com/ausschreibung/1123d83b-567e-4159-8286-4875d2002eb8/
URL:https://ausschreibungsradar.com/ausschreibung/1123d83b-567e-4159-8286-4875d2002eb8/
END:VEVENT
BEGIN:VEVENT
UID:dd7defee296bb8c3@ausschreibungsradar.com
DTSTAMP:20260426T021153Z
DTSTART;VALUE=DATE:20240905
DTEND;VALUE=DATE:20240905
SUMMARY:Änderung — Prüfung ortsveränderlicher und ortsfester Anlagen
DESCRIPTION:Phase: Änderung | Beschreibung: Ausschreibung wurde angepasst | Link: https://ausschreibungsradar.com/ausschreibung/1123d83b-567e-4159-8286-4875d2002eb8/
URL:https://ausschreibungsradar.com/ausschreibung/1123d83b-567e-4159-8286-4875d2002eb8/
END:VEVENT
END:VCALENDAR
