BEGIN:VCALENDAR
VERSION:2.0
PRODID:-//AusschreibungsRadar//Timeline//DE
CALSCALE:GREGORIAN
METHOD:PUBLISH
X-WR-CALNAME:Projekt TGA-HLS: Ausbau Ganztag an Ludwigsburger Grundschulen, Erwei
X-WR-TIMEZONE:Europe/Berlin
BEGIN:VEVENT
UID:0c00c1a0aa78af94@ausschreibungsradar.com
DTSTAMP:20260426T005646Z
DTSTART;VALUE=DATE:20240715
DTEND;VALUE=DATE:20240715
SUMMARY:Ausschreibung — TGA-HLS: Ausbau Ganztag an Ludwigsburger Grundschulen\, Erwei
DESCRIPTION:Phase: Ausschreibung | Beschreibung: Angebote werden eingeholt | Link: https://ausschreibungsradar.com/ausschreibung/1154046a-eef4-411a-a9ca-be4e356ed241/ | Geschätzter Wert: 137300 €
URL:https://ausschreibungsradar.com/ausschreibung/1154046a-eef4-411a-a9ca-be4e356ed241/
END:VEVENT
BEGIN:VEVENT
UID:09dbec65d1b8a42a@ausschreibungsradar.com
DTSTAMP:20260426T005646Z
DTSTART;VALUE=DATE:20240715
DTEND;VALUE=DATE:20240715
SUMMARY:Ausschreibung — TGA-HLS: Ausbau Ganztag an Ludwigsburger Grundschulen\, Erwei
DESCRIPTION:Phase: Ausschreibung | Beschreibung: Offizielle Ausschreibung mit Bieterfrist. | Link: https://ausschreibungsradar.com/ausschreibung/6179b5fd-a24b-4f41-afcf-98d3aab3252c/
URL:https://ausschreibungsradar.com/ausschreibung/6179b5fd-a24b-4f41-afcf-98d3aab3252c/
END:VEVENT
BEGIN:VEVENT
UID:993b567c36659288@ausschreibungsradar.com
DTSTAMP:20260426T005646Z
DTSTART;VALUE=DATE:20250120
DTEND;VALUE=DATE:20250120
SUMMARY:Vergabeergebnis — TGA-HLS: Ausbau Ganztag an Ludwigsburger Grundschulen\, Erwei
DESCRIPTION:Phase: Vergabeergebnis | Beschreibung: Auftrag wurde zugeschlagen | Link: https://ausschreibungsradar.com/ausschreibung/a0a64558-f451-4740-96f7-67fde8f61e7c/ | Geschätzter Wert: 137300 €
URL:https://ausschreibungsradar.com/ausschreibung/a0a64558-f451-4740-96f7-67fde8f61e7c/
END:VEVENT
END:VCALENDAR
