BEGIN:VCALENDAR
VERSION:2.0
PRODID:-//AusschreibungsRadar//Timeline//DE
CALSCALE:GREGORIAN
METHOD:PUBLISH
X-WR-CALNAME:Projekt Gemeinde Rust - Umbau und Erweiterung Feuerwehrgeratehaus - 
X-WR-TIMEZONE:Europe/Berlin
BEGIN:VEVENT
UID:a4a4f5b5f7a21dd8@ausschreibungsradar.com
DTSTAMP:20260424T062846Z
DTSTART;VALUE=DATE:20251219
DTEND;VALUE=DATE:20251219
SUMMARY:Ausschreibung — Gemeinde Rust - Umbau und Erweiterung Feuerwehrgeratehaus - 
DESCRIPTION:Phase: Ausschreibung | Beschreibung: Angebote werden eingeholt | Link: https://ausschreibungsradar.com/ausschreibung/c1523b31-6a46-4732-bfa7-d3c35036f9d4/
URL:https://ausschreibungsradar.com/ausschreibung/c1523b31-6a46-4732-bfa7-d3c35036f9d4/
END:VEVENT
BEGIN:VEVENT
UID:5ee9a3eb909d9b24@ausschreibungsradar.com
DTSTAMP:20260424T062846Z
DTSTART;VALUE=DATE:20260304
DTEND;VALUE=DATE:20260304
SUMMARY:Vergabeergebnis — Gemeinde Rust - Umbau und Erweiterung Feuerwehrgeratehaus - 
DESCRIPTION:Phase: Vergabeergebnis | Beschreibung: Auftrag wurde zugeschlagen | Link: https://ausschreibungsradar.com/ausschreibung/117bd430-b735-4e72-aac0-d5df78388fd4/
URL:https://ausschreibungsradar.com/ausschreibung/117bd430-b735-4e72-aac0-d5df78388fd4/
END:VEVENT
BEGIN:VEVENT
UID:db528054c7efcec5@ausschreibungsradar.com
DTSTAMP:20260424T062846Z
DTSTART;VALUE=DATE:20260304
DTEND;VALUE=DATE:20260304
SUMMARY:Zuschlag — Gemeinde Rust - Umbau und Erweiterung Feuerwehrgeratehaus - 
DESCRIPTION:Phase: Zuschlag | Beschreibung: Vergabeergebnis — Auftrag wurde erteilt oder Verfahren beendet. | Link: https://ausschreibungsradar.com/ausschreibung/ed265942-f85e-437a-ae00-63509ee8773f/
URL:https://ausschreibungsradar.com/ausschreibung/ed265942-f85e-437a-ae00-63509ee8773f/
END:VEVENT
BEGIN:VEVENT
UID:c63004038d1c8944@ausschreibungsradar.com
DTSTAMP:20260424T062846Z
DTSTART;VALUE=DATE:20260304
DTEND;VALUE=DATE:20260304
SUMMARY:Zuschlag — Gemeinde Rust - Umbau und Erweiterung Feuerwehrgeratehaus - 
DESCRIPTION:Phase: Zuschlag | Beschreibung: Vergabeergebnis — Auftrag wurde erteilt oder Verfahren beendet. | Link: https://ausschreibungsradar.com/ausschreibung/35adb71f-f1a2-4db5-9205-61d8d86f5564/
URL:https://ausschreibungsradar.com/ausschreibung/35adb71f-f1a2-4db5-9205-61d8d86f5564/
END:VEVENT
BEGIN:VEVENT
UID:491941a78b0a6dfa@ausschreibungsradar.com
DTSTAMP:20260424T062846Z
DTSTART;VALUE=DATE:20260304
DTEND;VALUE=DATE:20260304
SUMMARY:Zuschlag — Gemeinde Rust - Umbau und Erweiterung Feuerwehrgeratehaus - 
DESCRIPTION:Phase: Zuschlag | Beschreibung: Vergabeergebnis — Auftrag wurde erteilt oder Verfahren beendet. | Link: https://ausschreibungsradar.com/ausschreibung/9974c46d-b378-4119-895a-647bd97c4c38/
URL:https://ausschreibungsradar.com/ausschreibung/9974c46d-b378-4119-895a-647bd97c4c38/
END:VEVENT
END:VCALENDAR
