BEGIN:VCALENDAR
VERSION:2.0
PRODID:-//AusschreibungsRadar//Timeline//DE
CALSCALE:GREGORIAN
METHOD:PUBLISH
X-WR-CALNAME:Projekt Gigabitausbau Gemeinde Schöntal 2024
X-WR-TIMEZONE:Europe/Berlin
BEGIN:VEVENT
UID:f1e308cf16bb9316@ausschreibungsradar.com
DTSTAMP:20260425T143657Z
DTSTART;VALUE=DATE:20241118
DTEND;VALUE=DATE:20241118
SUMMARY:Ausschreibung — Gigabitausbau Gemeinde Schöntal 2024
DESCRIPTION:Phase: Ausschreibung | Beschreibung: Angebote werden eingeholt | Link: https://ausschreibungsradar.com/ausschreibung/7053fdb3-7a62-42a5-a70d-af446e384dfe/ | Geschätzter Wert: 17380765 €
URL:https://ausschreibungsradar.com/ausschreibung/7053fdb3-7a62-42a5-a70d-af446e384dfe/
END:VEVENT
BEGIN:VEVENT
UID:79d03958528be25e@ausschreibungsradar.com
DTSTAMP:20260425T143657Z
DTSTART;VALUE=DATE:20260409
DTEND;VALUE=DATE:20260409
SUMMARY:Vergabeergebnis — Gigabitausbau Gemeinde Schöntal 2024
DESCRIPTION:Phase: Vergabeergebnis | Beschreibung: Auftrag wurde zugeschlagen | Link: https://ausschreibungsradar.com/ausschreibung/11fdb837-db5a-4e57-87fa-ba4495865419/ | Geschätzter Wert: 17380765 €
URL:https://ausschreibungsradar.com/ausschreibung/11fdb837-db5a-4e57-87fa-ba4495865419/
END:VEVENT
END:VCALENDAR
