BEGIN:VCALENDAR
VERSION:2.0
PRODID:-//AusschreibungsRadar//Timeline//DE
CALSCALE:GREGORIAN
METHOD:PUBLISH
X-WR-CALNAME:Projekt Lüftungsanlage Aula-Astrid  Lindgren-Schule- Wiederaufbau Sc
X-WR-TIMEZONE:Europe/Berlin
BEGIN:VEVENT
UID:880d80286e2a0ceb@ausschreibungsradar.com
DTSTAMP:20260424T230101Z
DTSTART;VALUE=DATE:20260509
DTEND;VALUE=DATE:20260509
SUMMARY:Angebotsfrist — Lüftungsanlage Aula-Astrid  Lindgren-Schule- Wiederaufbau Sc
DESCRIPTION:Phase: Ausschreibung | Beschreibung: Angebote werden eingeholt | Link: https://ausschreibungsradar.com/ausschreibung/129a22c3-d94d-4a53-8983-a7a6a5bf7f40/
URL:https://ausschreibungsradar.com/ausschreibung/129a22c3-d94d-4a53-8983-a7a6a5bf7f40/
END:VEVENT
BEGIN:VEVENT
UID:a92296872c1c18a2@ausschreibungsradar.com
DTSTAMP:20260424T230101Z
DTSTART;VALUE=DATE:20260202
DTEND;VALUE=DATE:20260202
SUMMARY:Ausschreibung — Lüftungsanlage Aula-Astrid  Lindgren-Schule- Wiederaufbau Sc
DESCRIPTION:Phase: Ausschreibung | Beschreibung: Offizielle Ausschreibung mit Bieterfrist. | Link: https://ausschreibungsradar.com/ausschreibung/24941522/
URL:https://ausschreibungsradar.com/ausschreibung/24941522/
END:VEVENT
END:VCALENDAR
