BEGIN:VCALENDAR
VERSION:2.0
PRODID:-//AusschreibungsRadar//Timeline//DE
CALSCALE:GREGORIAN
METHOD:PUBLISH
X-WR-CALNAME:Projekt Versicherungsleistungen der VG Hamm (Sieg) - Glasversicherun
X-WR-TIMEZONE:Europe/Berlin
BEGIN:VEVENT
UID:46e1901796e4d23e@ausschreibungsradar.com
DTSTAMP:20260425T222115Z
DTSTART;VALUE=DATE:20251104
DTEND;VALUE=DATE:20251104
SUMMARY:Angebotsfrist — Versicherungsleistungen der VG Hamm (Sieg) - Glasversicherun
DESCRIPTION:Phase: Ausschreibung | Beschreibung: Angebote werden eingeholt | Link: https://ausschreibungsradar.com/ausschreibung/76dcfd0c-e3d5-46b8-9fe5-280ad295e067/
URL:https://ausschreibungsradar.com/ausschreibung/76dcfd0c-e3d5-46b8-9fe5-280ad295e067/
END:VEVENT
BEGIN:VEVENT
UID:6b7e7c074363d361@ausschreibungsradar.com
DTSTAMP:20260425T222115Z
DTSTART;VALUE=DATE:20250919
DTEND;VALUE=DATE:20250919
SUMMARY:Ausschreibung — Versicherungsleistungen der VG Hamm (Sieg) - Glasversicherun
DESCRIPTION:Phase: Ausschreibung | Beschreibung: Offizielle Ausschreibung mit Bieterfrist. | Link: https://ausschreibungsradar.com/ausschreibung/ed4e63d6-f456-494a-a9c3-bd52ea1cb633/
URL:https://ausschreibungsradar.com/ausschreibung/ed4e63d6-f456-494a-a9c3-bd52ea1cb633/
END:VEVENT
BEGIN:VEVENT
UID:4dfd4215f03ebfca@ausschreibungsradar.com
DTSTAMP:20260425T222115Z
DTSTART;VALUE=DATE:20251205
DTEND;VALUE=DATE:20251205
SUMMARY:Vergabeergebnis — Versicherungsleistungen der VG Hamm (Sieg) - Glasversicherun
DESCRIPTION:Phase: Vergabeergebnis | Beschreibung: Auftrag wurde zugeschlagen | Link: https://ausschreibungsradar.com/ausschreibung/12bf8623-254b-4cdb-9643-95692aa23fd1/
URL:https://ausschreibungsradar.com/ausschreibung/12bf8623-254b-4cdb-9643-95692aa23fd1/
END:VEVENT
BEGIN:VEVENT
UID:cfd2c3a40b958dd0@ausschreibungsradar.com
DTSTAMP:20260425T222115Z
DTSTART;VALUE=DATE:20251205
DTEND;VALUE=DATE:20251205
SUMMARY:Zuschlag — Versicherungsleistungen der VG Hamm (Sieg) - Glasversicherun
DESCRIPTION:Phase: Zuschlag | Beschreibung: Vergabeergebnis — Auftrag wurde erteilt oder Verfahren beendet. | Link: https://ausschreibungsradar.com/ausschreibung/a835a3b2-ac78-430e-841c-65287d547a85/
URL:https://ausschreibungsradar.com/ausschreibung/a835a3b2-ac78-430e-841c-65287d547a85/
END:VEVENT
END:VCALENDAR
