BEGIN:VCALENDAR
VERSION:2.0
PRODID:-//AusschreibungsRadar//Timeline//DE
CALSCALE:GREGORIAN
METHOD:PUBLISH
X-WR-CALNAME:Projekt Geb. 8801 Optics University Center and Campus (OPTICUM) - VE
X-WR-TIMEZONE:Europe/Berlin
BEGIN:VEVENT
UID:82beb7c9a36d8b06@ausschreibungsradar.com
DTSTAMP:20260424T055150Z
DTSTART;VALUE=DATE:20240528
DTEND;VALUE=DATE:20240528
SUMMARY:Ausschreibung — Geb. 8801 Optics University Center and Campus (OPTICUM) - VE
DESCRIPTION:Phase: Ausschreibung | Beschreibung: Offizielle Ausschreibung mit Bieterfrist. | Link: https://ausschreibungsradar.com/ausschreibung/2e880c06-2cbe-4c3e-b74f-21e8c5290721/
URL:https://ausschreibungsradar.com/ausschreibung/2e880c06-2cbe-4c3e-b74f-21e8c5290721/
END:VEVENT
BEGIN:VEVENT
UID:0a39ab09eee85458@ausschreibungsradar.com
DTSTAMP:20260424T055150Z
DTSTART;VALUE=DATE:20240528
DTEND;VALUE=DATE:20240528
SUMMARY:Ausschreibung — Geb. 8801 Optics University Center and Campus (OPTICUM) - VE
DESCRIPTION:Phase: Ausschreibung | Beschreibung: Offizielle Ausschreibung mit Bieterfrist. | Link: https://ausschreibungsradar.com/ausschreibung/5bc55f34-a7eb-45bb-aaf0-1f37b5b09d8d/
URL:https://ausschreibungsradar.com/ausschreibung/5bc55f34-a7eb-45bb-aaf0-1f37b5b09d8d/
END:VEVENT
BEGIN:VEVENT
UID:29e7616acdab7909@ausschreibungsradar.com
DTSTAMP:20260424T055150Z
DTSTART;VALUE=DATE:20240805
DTEND;VALUE=DATE:20240805
SUMMARY:Angebotsfrist — Geb. 8801 Optics University Center and Campus (OPTICUM) - VE
DESCRIPTION:Phase: Ausschreibung | Beschreibung: Angebote werden eingeholt | Link: https://ausschreibungsradar.com/ausschreibung/12c3965b-32cc-4365-ae6c-10c3ea072e6b/
URL:https://ausschreibungsradar.com/ausschreibung/12c3965b-32cc-4365-ae6c-10c3ea072e6b/
END:VEVENT
BEGIN:VEVENT
UID:01ab2fc3e739a55d@ausschreibungsradar.com
DTSTAMP:20260424T055150Z
DTSTART;VALUE=DATE:20240611
DTEND;VALUE=DATE:20240611
SUMMARY:Ausschreibung — Geb. 8801 Optics University Center and Campus (OPTICUM) - VE
DESCRIPTION:Phase: Ausschreibung | Beschreibung: Offizielle Ausschreibung mit Bieterfrist. | Link: https://ausschreibungsradar.com/ausschreibung/39b3a534-b30e-433d-9168-a8b854c2136f/
URL:https://ausschreibungsradar.com/ausschreibung/39b3a534-b30e-433d-9168-a8b854c2136f/
END:VEVENT
BEGIN:VEVENT
UID:94c14af60e634461@ausschreibungsradar.com
DTSTAMP:20260424T055150Z
DTSTART;VALUE=DATE:20240611
DTEND;VALUE=DATE:20240611
SUMMARY:Ausschreibung — Geb. 8801 Optics University Center and Campus (OPTICUM) - VE
DESCRIPTION:Phase: Ausschreibung | Beschreibung: Offizielle Ausschreibung mit Bieterfrist. | Link: https://ausschreibungsradar.com/ausschreibung/ab7ff753-0b87-4ab2-b583-6cc694daa634/
URL:https://ausschreibungsradar.com/ausschreibung/ab7ff753-0b87-4ab2-b583-6cc694daa634/
END:VEVENT
BEGIN:VEVENT
UID:d103d9de11750c97@ausschreibungsradar.com
DTSTAMP:20260424T055150Z
DTSTART;VALUE=DATE:20240925
DTEND;VALUE=DATE:20240925
SUMMARY:Vergabeergebnis — Geb. 8801 Optics University Center and Campus (OPTICUM) - VE
DESCRIPTION:Phase: Vergabeergebnis | Beschreibung: Auftrag wurde zugeschlagen | Link: https://ausschreibungsradar.com/ausschreibung/50f54d5b-ef6d-4265-9600-433c4de58285/
URL:https://ausschreibungsradar.com/ausschreibung/50f54d5b-ef6d-4265-9600-433c4de58285/
END:VEVENT
END:VCALENDAR
