BEGIN:VCALENDAR
VERSION:2.0
PRODID:-//AusschreibungsRadar//Timeline//DE
CALSCALE:GREGORIAN
METHOD:PUBLISH
X-WR-CALNAME:Projekt REZ NRW 45ind
X-WR-TIMEZONE:Europe/Berlin
BEGIN:VEVENT
UID:ccf83fe1cbdc5399@ausschreibungsradar.com
DTSTAMP:20260425T203858Z
DTSTART;VALUE=DATE:20250910
DTEND;VALUE=DATE:20250910
SUMMARY:Ausschreibung — REZ NRW 45ind
DESCRIPTION:Phase: Ausschreibung | Beschreibung: Angebote werden eingeholt | Link: https://ausschreibungsradar.com/ausschreibung/4aa24311-28a1-4a3b-9c5b-e5bb89a22398/
URL:https://ausschreibungsradar.com/ausschreibung/4aa24311-28a1-4a3b-9c5b-e5bb89a22398/
END:VEVENT
BEGIN:VEVENT
UID:de9c209ad9ab0d14@ausschreibungsradar.com
DTSTAMP:20260425T203858Z
DTSTART;VALUE=DATE:20251216
DTEND;VALUE=DATE:20251216
SUMMARY:Vergabeergebnis — REZ NRW 45ind
DESCRIPTION:Phase: Vergabeergebnis | Beschreibung: Auftrag wurde zugeschlagen | Link: https://ausschreibungsradar.com/ausschreibung/13190a78-ce7a-4fd0-b21d-12d21cfd4413/
URL:https://ausschreibungsradar.com/ausschreibung/13190a78-ce7a-4fd0-b21d-12d21cfd4413/
END:VEVENT
BEGIN:VEVENT
UID:347b1db3e814bc36@ausschreibungsradar.com
DTSTAMP:20260425T203858Z
DTSTART;VALUE=DATE:20260114
DTEND;VALUE=DATE:20260114
SUMMARY:Ausschreibung — REZ NRW 45ind
DESCRIPTION:Phase: Ausschreibung | Beschreibung: Offizielle Ausschreibung mit Bieterfrist. | Link: https://ausschreibungsradar.com/ausschreibung/49242d13-febf-430b-879e-ab3db2dbd4c9/
URL:https://ausschreibungsradar.com/ausschreibung/49242d13-febf-430b-879e-ab3db2dbd4c9/
END:VEVENT
END:VCALENDAR
