BEGIN:VCALENDAR
VERSION:2.0
PRODID:-//AusschreibungsRadar//Timeline//DE
CALSCALE:GREGORIAN
METHOD:PUBLISH
X-WR-CALNAME:Projekt RV Stellenausschreibungen
X-WR-TIMEZONE:Europe/Berlin
BEGIN:VEVENT
UID:4e3377938e21da88@ausschreibungsradar.com
DTSTAMP:20260425T185208Z
DTSTART;VALUE=DATE:20250902
DTEND;VALUE=DATE:20250902
SUMMARY:Angebotsfrist — RV Stellenausschreibungen
DESCRIPTION:Phase: Ausschreibung | Beschreibung: Angebote werden eingeholt | Link: https://ausschreibungsradar.com/ausschreibung/13461b58-b4e3-4faf-a6de-f892c1b20dd9/
URL:https://ausschreibungsradar.com/ausschreibung/13461b58-b4e3-4faf-a6de-f892c1b20dd9/
END:VEVENT
BEGIN:VEVENT
UID:6a6e88992111a4e4@ausschreibungsradar.com
DTSTAMP:20260425T185208Z
DTSTART;VALUE=DATE:20251007
DTEND;VALUE=DATE:20251007
SUMMARY:Vergabeergebnis — RV Stellenausschreibungen
DESCRIPTION:Phase: Vergabeergebnis | Beschreibung: Auftrag wurde zugeschlagen | Link: https://ausschreibungsradar.com/ausschreibung/d4354436-a0ac-4a37-8702-db92eb000791/
URL:https://ausschreibungsradar.com/ausschreibung/d4354436-a0ac-4a37-8702-db92eb000791/
END:VEVENT
END:VCALENDAR
