BEGIN:VCALENDAR
VERSION:2.0
PRODID:-//AusschreibungsRadar//Timeline//DE
CALSCALE:GREGORIAN
METHOD:PUBLISH
X-WR-CALNAME:Projekt Sanierung des Halloren- und Salinemuseums - HLS Planung Nach
X-WR-TIMEZONE:Europe/Berlin
BEGIN:VEVENT
UID:aaf87b21ad131790@ausschreibungsradar.com
DTSTAMP:20260425T194200Z
DTSTART;VALUE=DATE:20260216
DTEND;VALUE=DATE:20260216
SUMMARY:Vertragsmodifikation — Sanierung des Halloren- und Salinemuseums - HLS Planung Nach
DESCRIPTION:Phase: Vertragsmodifikation | Beschreibung: Änderung am bestehenden Vertrag nach Zuschlag. | Link: https://ausschreibungsradar.com/ausschreibung/57dfde33-08cc-4675-9bed-84d6867f1508/
URL:https://ausschreibungsradar.com/ausschreibung/57dfde33-08cc-4675-9bed-84d6867f1508/
END:VEVENT
BEGIN:VEVENT
UID:05691de94c072b3f@ausschreibungsradar.com
DTSTAMP:20260425T194200Z
DTSTART;VALUE=DATE:20260218
DTEND;VALUE=DATE:20260218
SUMMARY:Vertragsmodifikation — Sanierung des Halloren- und Salinemuseums - HLS Planung Nach
DESCRIPTION:Phase: Vertragsmodifikation | Beschreibung: Änderung am bestehenden Vertrag nach Zuschlag. | Link: https://ausschreibungsradar.com/ausschreibung/2f3d2329-1441-4979-824a-75c19c9ca312/
URL:https://ausschreibungsradar.com/ausschreibung/2f3d2329-1441-4979-824a-75c19c9ca312/
END:VEVENT
BEGIN:VEVENT
UID:2edf3d216ce00748@ausschreibungsradar.com
DTSTAMP:20260425T194200Z
DTSTART;VALUE=DATE:20260219
DTEND;VALUE=DATE:20260219
SUMMARY:Vertragsmodifikation — Sanierung des Halloren- und Salinemuseums - HLS Planung Nach
DESCRIPTION:Phase: Vertragsmodifikation | Beschreibung: Änderung am bestehenden Vertrag nach Zuschlag. | Link: https://ausschreibungsradar.com/ausschreibung/393bfc16-44e4-41d9-8a57-4c8fa3cb0a22/
URL:https://ausschreibungsradar.com/ausschreibung/393bfc16-44e4-41d9-8a57-4c8fa3cb0a22/
END:VEVENT
BEGIN:VEVENT
UID:546822b2aef9f2ef@ausschreibungsradar.com
DTSTAMP:20260425T194200Z
DTSTART;VALUE=DATE:20260223
DTEND;VALUE=DATE:20260223
SUMMARY:Vertragsmodifikation — Sanierung des Halloren- und Salinemuseums - HLS Planung Nach
DESCRIPTION:Phase: Vertragsmodifikation | Beschreibung: Änderung am bestehenden Vertrag nach Zuschlag. | Link: https://ausschreibungsradar.com/ausschreibung/ebaf7d42-f0f4-4695-9fd7-29a94b7ce802/
URL:https://ausschreibungsradar.com/ausschreibung/ebaf7d42-f0f4-4695-9fd7-29a94b7ce802/
END:VEVENT
BEGIN:VEVENT
UID:76016d61627661ca@ausschreibungsradar.com
DTSTAMP:20260425T194200Z
DTSTART;VALUE=DATE:20260224
DTEND;VALUE=DATE:20260224
SUMMARY:Vertragsänderung — Sanierung des Halloren- und Salinemuseums - HLS Planung Nach
DESCRIPTION:Phase: Vertragsänderung | Beschreibung: Modifikation aufgrund unvorhersehbarer Umstände | Link: https://ausschreibungsradar.com/ausschreibung/1388e890-a20e-4f96-b718-53d4eadbad93/
URL:https://ausschreibungsradar.com/ausschreibung/1388e890-a20e-4f96-b718-53d4eadbad93/
END:VEVENT
BEGIN:VEVENT
UID:ec172a23701716ad@ausschreibungsradar.com
DTSTAMP:20260425T194200Z
DTSTART;VALUE=DATE:20260224
DTEND;VALUE=DATE:20260224
SUMMARY:Vertragsmodifikation — Sanierung des Halloren- und Salinemuseums - HLS Planung Nach
DESCRIPTION:Phase: Vertragsmodifikation | Beschreibung: Änderung am bestehenden Vertrag nach Zuschlag. | Link: https://ausschreibungsradar.com/ausschreibung/b6d04d7c-fec2-428d-86b1-5e169f3d8d3f/
URL:https://ausschreibungsradar.com/ausschreibung/b6d04d7c-fec2-428d-86b1-5e169f3d8d3f/
END:VEVENT
END:VCALENDAR
