BEGIN:VCALENDAR
VERSION:2.0
PRODID:-//AusschreibungsRadar//Timeline//DE
CALSCALE:GREGORIAN
METHOD:PUBLISH
X-WR-CALNAME:Projekt Jahresabschlussprüfungen 2026-2031 sowie weitere Prüfungslei
X-WR-TIMEZONE:Europe/Berlin
BEGIN:VEVENT
UID:703de7f6ed27252f@ausschreibungsradar.com
DTSTAMP:20260425T125710Z
DTSTART;VALUE=DATE:20251006
DTEND;VALUE=DATE:20251006
SUMMARY:Ausschreibung — Jahresabschlussprüfungen 2026-2031 sowie weitere Prüfungslei
DESCRIPTION:Phase: Ausschreibung | Beschreibung: Angebote werden eingeholt | Link: https://ausschreibungsradar.com/ausschreibung/1396fc6b-a66d-4fd4-acb8-aa20f352f0d9/
URL:https://ausschreibungsradar.com/ausschreibung/1396fc6b-a66d-4fd4-acb8-aa20f352f0d9/
END:VEVENT
BEGIN:VEVENT
UID:b0fd49fc9bb7641a@ausschreibungsradar.com
DTSTAMP:20260425T125710Z
DTSTART;VALUE=DATE:20260318
DTEND;VALUE=DATE:20260318
SUMMARY:Vergabeergebnis — Jahresabschlussprüfungen 2026-2031 sowie weitere Prüfungslei
DESCRIPTION:Phase: Vergabeergebnis | Beschreibung: Auftrag wurde zugeschlagen | Link: https://ausschreibungsradar.com/ausschreibung/ad01736f-175b-474c-8738-7c5f671f5313/
URL:https://ausschreibungsradar.com/ausschreibung/ad01736f-175b-474c-8738-7c5f671f5313/
END:VEVENT
END:VCALENDAR
