BEGIN:VCALENDAR
VERSION:2.0
PRODID:-//AusschreibungsRadar//Timeline//DE
CALSCALE:GREGORIAN
METHOD:PUBLISH
X-WR-CALNAME:Projekt Museale Neugestaltung Stiftsberg Quedlinburg - Herstellung, 
X-WR-TIMEZONE:Europe/Berlin
BEGIN:VEVENT
UID:7498c37bda958171@ausschreibungsradar.com
DTSTAMP:20260425T194101Z
DTSTART;VALUE=DATE:20250327
DTEND;VALUE=DATE:20250327
SUMMARY:Angebotsfrist — Museale Neugestaltung Stiftsberg Quedlinburg - Herstellung\, 
DESCRIPTION:Phase: Ausschreibung | Beschreibung: Angebote werden eingeholt | Link: https://ausschreibungsradar.com/ausschreibung/13983c3c-77cd-494a-b30d-9b8955ad1c82/
URL:https://ausschreibungsradar.com/ausschreibung/13983c3c-77cd-494a-b30d-9b8955ad1c82/
END:VEVENT
BEGIN:VEVENT
UID:dc41bc754f647136@ausschreibungsradar.com
DTSTAMP:20260425T194101Z
DTSTART;VALUE=DATE:20250221
DTEND;VALUE=DATE:20250221
SUMMARY:Ausschreibung — Museale Neugestaltung Stiftsberg Quedlinburg - Herstellung\, 
DESCRIPTION:Phase: Ausschreibung | Beschreibung: Offizielle Ausschreibung mit Bieterfrist. | Link: https://ausschreibungsradar.com/ausschreibung/7dbe3502-d9d5-42ba-a1e6-6e781d249188/
URL:https://ausschreibungsradar.com/ausschreibung/7dbe3502-d9d5-42ba-a1e6-6e781d249188/
END:VEVENT
BEGIN:VEVENT
UID:bd1b5f668b7671d6@ausschreibungsradar.com
DTSTAMP:20260425T194101Z
DTSTART;VALUE=DATE:20250430
DTEND;VALUE=DATE:20250430
SUMMARY:Vergabeergebnis — Museale Neugestaltung Stiftsberg Quedlinburg - Herstellung\, 
DESCRIPTION:Phase: Vergabeergebnis | Beschreibung: Sonstige Gründe | Link: https://ausschreibungsradar.com/ausschreibung/3fcaa85d-0d1d-4c07-b6e7-3d436ebf43c5/
URL:https://ausschreibungsradar.com/ausschreibung/3fcaa85d-0d1d-4c07-b6e7-3d436ebf43c5/
END:VEVENT
END:VCALENDAR
