BEGIN:VCALENDAR
VERSION:2.0
PRODID:-//AusschreibungsRadar//Timeline//DE
CALSCALE:GREGORIAN
METHOD:PUBLISH
X-WR-CALNAME:Projekt Wartung Stromversorgung am Standort Oberpfaffenhofen
X-WR-TIMEZONE:Europe/Berlin
BEGIN:VEVENT
UID:b2a62fd23b978281@ausschreibungsradar.com
DTSTAMP:20260426T021359Z
DTSTART;VALUE=DATE:20251112
DTEND;VALUE=DATE:20251112
SUMMARY:Angebotsfrist — Wartung Stromversorgung am Standort Oberpfaffenhofen
DESCRIPTION:Phase: Ausschreibung | Beschreibung: Angebote werden eingeholt | Link: https://ausschreibungsradar.com/ausschreibung/13d8614b-8f10-4b4a-94ed-e3f1a243e231/ | Geschätzter Wert: 225000 €
URL:https://ausschreibungsradar.com/ausschreibung/13d8614b-8f10-4b4a-94ed-e3f1a243e231/
END:VEVENT
END:VCALENDAR
