BEGIN:VCALENDAR
VERSION:2.0
PRODID:-//AusschreibungsRadar//Timeline//DE
CALSCALE:GREGORIAN
METHOD:PUBLISH
X-WR-CALNAME:Projekt B5, Dreistreifigkeit Tönning bis Rothenspieker - Bepflanzung
X-WR-TIMEZONE:Europe/Berlin
BEGIN:VEVENT
UID:0ea5c79a36ad1d3f@ausschreibungsradar.com
DTSTAMP:20260424T203406Z
DTSTART;VALUE=DATE:20250930
DTEND;VALUE=DATE:20250930
SUMMARY:Angebotsfrist — B5\, Dreistreifigkeit Tönning bis Rothenspieker - Bepflanzung
DESCRIPTION:Phase: Ausschreibung | Beschreibung: Angebote werden eingeholt | Link: https://ausschreibungsradar.com/ausschreibung/14511bbb-b5ec-4306-8416-2f656f35c8eb/
URL:https://ausschreibungsradar.com/ausschreibung/14511bbb-b5ec-4306-8416-2f656f35c8eb/
END:VEVENT
BEGIN:VEVENT
UID:399fce1b72e22ae7@ausschreibungsradar.com
DTSTAMP:20260424T203406Z
DTSTART;VALUE=DATE:20250915
DTEND;VALUE=DATE:20250915
SUMMARY:Ausschreibung — B5\, Dreistreifigkeit Tönning bis Rothenspieker - Bepflanzung
DESCRIPTION:Phase: Ausschreibung | Beschreibung: Offizielle Ausschreibung mit Bieterfrist. | Link: https://ausschreibungsradar.com/ausschreibung/8d3c036e-a349-4eb7-a06e-f16aac775098/
URL:https://ausschreibungsradar.com/ausschreibung/8d3c036e-a349-4eb7-a06e-f16aac775098/
END:VEVENT
BEGIN:VEVENT
UID:15912930eec79c4c@ausschreibungsradar.com
DTSTAMP:20260424T203406Z
DTSTART;VALUE=DATE:20251027
DTEND;VALUE=DATE:20251027
SUMMARY:Vergabeergebnis — B5\, Dreistreifigkeit Tönning bis Rothenspieker - Bepflanzung
DESCRIPTION:Phase: Vergabeergebnis | Beschreibung: Auftrag wurde zugeschlagen | Link: https://ausschreibungsradar.com/ausschreibung/2761955d-8170-4690-969f-8add0c512df6/ | Auftragnehmer: AKM Landschaft und Garten
URL:https://ausschreibungsradar.com/ausschreibung/2761955d-8170-4690-969f-8add0c512df6/
END:VEVENT
END:VCALENDAR
