BEGIN:VCALENDAR
VERSION:2.0
PRODID:-//AusschreibungsRadar//Timeline//DE
CALSCALE:GREGORIAN
METHOD:PUBLISH
X-WR-CALNAME:Projekt COMSOL Multiphysics - Lizenzverlängerungen
X-WR-TIMEZONE:Europe/Berlin
BEGIN:VEVENT
UID:3c2204e2dc8a6ceb@ausschreibungsradar.com
DTSTAMP:20260424T142552Z
DTSTART;VALUE=DATE:20250708
DTEND;VALUE=DATE:20250708
SUMMARY:Ausschreibung — COMSOL Multiphysics - Lizenzverlängerungen
DESCRIPTION:Phase: Ausschreibung | Beschreibung: Offizielle Ausschreibung mit Bieterfrist. | Link: https://ausschreibungsradar.com/ausschreibung/24087920/
URL:https://ausschreibungsradar.com/ausschreibung/24087920/
END:VEVENT
BEGIN:VEVENT
UID:abd0dfbd8d417bad@ausschreibungsradar.com
DTSTAMP:20260424T142552Z
DTSTART;VALUE=DATE:20250722
DTEND;VALUE=DATE:20250722
SUMMARY:Vorinformation — COMSOL Multiphysics - Lizenzverlängerungen
DESCRIPTION:Phase: Vorinformation | Beschreibung: Vorab-Ankündigung der Vergabestelle — keine verbindliche Ausschreibung. | Link: https://ausschreibungsradar.com/ausschreibung/145b8d9e-ba88-4746-9cda-6b67d51d2871
URL:https://ausschreibungsradar.com/ausschreibung/145b8d9e-ba88-4746-9cda-6b67d51d2871/
END:VEVENT
END:VCALENDAR
