BEGIN:VCALENDAR
VERSION:2.0
PRODID:-//AusschreibungsRadar//Timeline//DE
CALSCALE:GREGORIAN
METHOD:PUBLISH
X-WR-CALNAME:Projekt Rahmenvereinbarung "HIS-Step2
X-WR-TIMEZONE:Europe/Berlin
BEGIN:VEVENT
UID:c42240339625cfb7@ausschreibungsradar.com
DTSTAMP:20260424T211122Z
DTSTART;VALUE=DATE:20260306
DTEND;VALUE=DATE:20260306
SUMMARY:Angebotsfrist — Rahmenvereinbarung "HIS-Step2
DESCRIPTION:Phase: Ausschreibung | Beschreibung: Angebote werden eingeholt | Link: https://ausschreibungsradar.com/ausschreibung/14a08db7-6800-4f8c-97dc-b1f17d832b92/
URL:https://ausschreibungsradar.com/ausschreibung/14a08db7-6800-4f8c-97dc-b1f17d832b92/
END:VEVENT
BEGIN:VEVENT
UID:5df898fa2d51a5a9@ausschreibungsradar.com
DTSTAMP:20260424T211122Z
DTSTART;VALUE=DATE:20260116
DTEND;VALUE=DATE:20260116
SUMMARY:Ausschreibung — Rahmenvereinbarung "HIS-Step2
DESCRIPTION:Phase: Ausschreibung | Beschreibung: Offizielle Ausschreibung mit Bieterfrist. | Link: https://ausschreibungsradar.com/ausschreibung/f788ed0b-982c-47d8-a211-338e9a3e0692/
URL:https://ausschreibungsradar.com/ausschreibung/f788ed0b-982c-47d8-a211-338e9a3e0692/
END:VEVENT
END:VCALENDAR
